BEGIN:VCALENDAR
PRODID:NingEventWidget-v1
VERSION:2.0
METHOD:PUBLISH
BEGIN:VTIMEZONE
TZID:Pacific/Midway
X-LIC-LOCATION:Pacific/Midway
BEGIN:STANDARD
TZOFFSETFROM:-1100
TZOFFSETTO:-1100
TZNAME:SST
DTSTART:19700101T000000
END:STANDARD
END:VTIMEZONE
BEGIN:VEVENT
UID:5072275:Event:1099623
DTSTAMP:20260420T062413Z
SUMMARY:20th Annual Color of Fall Car Show - Woodbury, Tn
DESCRIPTION:20th Annual Color of Fall Car Show on the Square\n\nFor mo
 re information visit https://www.southeastwheelsevents.com/events/20th
 -annual-color-of-fall-car-show-woodbury-tn
DTSTART;TZID=Pacific/Midway:20180922T080000
DTEND;TZID=Pacific/Midway:20180922T150000
CATEGORIES:car, show, cruise, in
LOCATION:The Square,
WEBSITE:
URL:
CONTACT:(615) 563-2222
ORGANIZER:COC
ATTACH;FMTTYPE="image/jpeg":http://storage.ning.com/topology/rest/1.0/
 file/get/967799165?profile=original
ATTENDEE;ROLE=REQ-PARTICIPANT;PARTSTAT=ACCEPTED;RSVP=TRUE;CN="Anthony 
 Hopkins":https://www.southeastwheelsevents.com/profile/AnthonyHopkins
END:VEVENT
END:VCALENDAR
