BEGIN:VCALENDAR
PRODID:NingEventWidget-v1
VERSION:2.0
METHOD:PUBLISH
BEGIN:VTIMEZONE
TZID:Pacific/Midway
X-LIC-LOCATION:Pacific/Midway
BEGIN:STANDARD
TZOFFSETFROM:-1100
TZOFFSETTO:-1100
TZNAME:SST
DTSTART:19700101T000000
END:STANDARD
END:VTIMEZONE
BEGIN:VEVENT
UID:5072275:Event:1141477
DTSTAMP:20260420T112549Z
SUMMARY:20th Annual Open Car Show in conjunction with the Azalea Festi
 val - Palatka, Fl
DESCRIPTION:20th Annual Open Car Show in conjunction with the Azalea F
 estival at Riverfront Park.\n\nFor more information visit https://www.
 southeastwheelsevents.com/events/20th-annual-open-car-show-in-conjunct
 ion-with-the-azalea-festival
DTSTART;TZID=Pacific/Midway:20190302T080000
DTEND;TZID=Pacific/Midway:20190302T160000
CATEGORIES:car, show, cruise, in
LOCATION:Riverfront Park,
WEBSITE:https://www.google.com/maps/place/Riverfront+Park/@29.6447328,
 -81.6325828,17z/data=!3m1!4b1!4m5!3m4!1s0x88e66441434b334d:0xab07b4a0c
 e39f653!8m2!3d29.6447328!4d-81.6303941
URL:https://www.google.com/maps/place/Riverfront+Park/@29.6447328,-81.
 6325828,17z/data=!3m1!4b1!4m5!3m4!1s0x88e66441434b334d:0xab07b4a0ce39f
 653!8m2!3d29.6447328!4d-81.6303941
CONTACT:(904) 571-4956; (904) 284-5303
ORGANIZER:Roger and Paula Kash, Bob Cox
ATTACH;FMTTYPE="image/jpeg":https://storage.ning.com/topology/rest/1.0
 /file/get/1157000167?profile=original
ATTENDEE;ROLE=REQ-PARTICIPANT;PARTSTAT=ACCEPTED;RSVP=TRUE;CN="Anthony 
 Hopkins":https://www.southeastwheelsevents.com/profile/AnthonyHopkins
END:VEVENT
END:VCALENDAR
