BEGIN:VCALENDAR
PRODID:NingEventWidget-v1
VERSION:2.0
METHOD:PUBLISH
BEGIN:VTIMEZONE
TZID:Pacific/Midway
X-LIC-LOCATION:Pacific/Midway
BEGIN:STANDARD
TZOFFSETFROM:-1100
TZOFFSETTO:-1100
TZNAME:SST
DTSTART:19700101T000000
END:STANDARD
END:VTIMEZONE
BEGIN:VEVENT
UID:5072275:Event:670589
DTSTAMP:20260422T112949Z
SUMMARY:Annual Liberty Day Car Truck & Tractor Show -Columbiana, AL
DESCRIPTION:Motorcycles, tractors and other vehicles of interest are w
 elcome!  Door prizes given away throughout the day!\r\nRegistration i
 s from 8 a.m. to noon.  Forms are available on our website.  Car sho
 w is part of the Liberty Day Festival which has arts and crafts vendor
 s, all day entertainment under the Park Pavillion, food vendors, puppe
 teer, and the day concludes with a spectacular fireworks show at 9 pm 
 over Weiss Lake.\n\nFor more information visit https://www.southeastwh
 eelsevents.com/events/21st-annual-liberty-day
DTSTART;TZID=Pacific/Midway:20210626T090000
DTEND;TZID=Pacific/Midway:20210626T140000
CATEGORIES:southern, rodders, antique, car, show
LOCATION:104 College Street
WEBSITE:
URL:
CONTACT:Roiger 205-229-3675
ORGANIZER:
ATTACH;FMTTYPE="image/jpeg":http://storage.ning.com/topology/rest/1.0/
 file/get/967641758?profile=original
ATTENDEE;ROLE=REQ-PARTICIPANT;PARTSTAT=ACCEPTED;RSVP=TRUE;CN="Town of 
 Cedar Bluff Alabama":https://www.southeastwheelsevents.com/profile/Tow
 nofCedarBluffAlabama
ATTENDEE;ROLE=REQ-PARTICIPANT;PARTSTAT=ACCEPTED;RSVP=TRUE;CN="Snitch A
 dams":https://www.southeastwheelsevents.com/profile/SnitchAdams
END:VEVENT
END:VCALENDAR
