BEGIN:VCALENDAR
PRODID:NingEventWidget-v1
VERSION:2.0
METHOD:PUBLISH
BEGIN:VTIMEZONE
TZID:Pacific/Midway
X-LIC-LOCATION:Pacific/Midway
BEGIN:STANDARD
TZOFFSETFROM:-1100
TZOFFSETTO:-1100
TZNAME:SST
DTSTART:19700101T000000
END:STANDARD
END:VTIMEZONE
BEGIN:VEVENT
UID:5072275:Event:1182507
DTSTAMP:20260422T131935Z
SUMMARY:23rd Annual Charity Car Show - Raleigh, NC
DESCRIPTION:Corvettes International, Raleigh, NC will have their 23rd 
 yearly Charity Car Show on April 18, 2020.\nThis car show will be open
  to a wide range of cars, not simply Corvettes.\nThe returns will be d
 onated to Transitions LifeCare, established as Hospice of Wake County.
 \nChanges LifeCare is the most seasoned and most experienced supplier 
 in our locale, offering a nature of care for those in their last phase
 s of life and backing for their relatives.\n\nFor more information vis
 it https://www.southeastwheelsevents.com/events/23rd-annual-charity-ca
 r-show-raleigh-nc
DTSTART;TZID=Pacific/Midway:20200418T080000
DTEND;TZID=Pacific/Midway:20200418T150000
CATEGORIES:car, show, cruise-in
LOCATION:Advance Auto Parts Corporate Campus,
WEBSITE:https://www.google.com/maps?q=4721+hargrove+rd+raleigh+nc&amp;
 um=1&amp;ie=UTF-8&amp;sa=X&amp;ved=2ahUKEwi0jcTu3avmAhUUWX0KHQbeDYgQ_A
 UoAXoECAwQAw
URL:https://www.google.com/maps?q=4721+hargrove+rd+raleigh+nc&amp;um=1
 &amp;ie=UTF-8&amp;sa=X&amp;ved=2ahUKEwi0jcTu3avmAhUUWX0KHQbeDYgQ_AUoAX
 oECAwQAw
CONTACT:(410) 790-4644
ORGANIZER:Ron Grieb
ATTACH;FMTTYPE="image/jpeg":https://storage.ning.com/topology/rest/1.0
 /file/get/3700587983?profile=original
ATTENDEE;ROLE=REQ-PARTICIPANT;PARTSTAT=ACCEPTED;RSVP=TRUE;CN="Anthony 
 Hopkins":https://www.southeastwheelsevents.com/profile/AnthonyHopkins
END:VEVENT
END:VCALENDAR
