BEGIN:VCALENDAR
PRODID:NingEventWidget-v1
VERSION:2.0
METHOD:PUBLISH
BEGIN:VTIMEZONE
TZID:Pacific/Midway
X-LIC-LOCATION:Pacific/Midway
BEGIN:STANDARD
TZOFFSETFROM:-1100
TZOFFSETTO:-1100
TZNAME:SST
DTSTART:19700101T000000
END:STANDARD
END:VTIMEZONE
BEGIN:VEVENT
UID:5072275:Event:1086841
DTSTAMP:20260425T041328Z
SUMMARY:23rd Annual Nauvoo Car Show - Nauvoo, AL
DESCRIPTION:23rd Annual Nauvoo Car Show\n\nFor more information visit 
 https://www.southeastwheelsevents.com/events/23rd-annual-nauvoo-car-sh
 ow-nauvoo-al-1
DTSTART;TZID=Pacific/Midway:20180616T080000
DTEND;TZID=Pacific/Midway:20180616T140000
CATEGORIES:car, show
LOCATION:Old Harbin Hotel
WEBSITE:http://nauvoocarshow.com
URL:http://nauvoocarshow.com
CONTACT:(205) 697-5652, (205) 697-5460, (205) 924-9929
ORGANIZER:Gene McDaniel, Marey Carey, Wesley Clowers
ATTACH;FMTTYPE="image/jpeg":http://storage.ning.com/topology/rest/1.0/
 file/get/967772891?profile=original
ATTENDEE;ROLE=REQ-PARTICIPANT;PARTSTAT=ACCEPTED;RSVP=TRUE;CN="Anthony 
 Hopkins":https://www.southeastwheelsevents.com/profile/AnthonyHopkins
END:VEVENT
END:VCALENDAR
