BEGIN:VCALENDAR
PRODID:NingEventWidget-v1
VERSION:2.0
METHOD:PUBLISH
BEGIN:VTIMEZONE
TZID:Pacific/Midway
X-LIC-LOCATION:Pacific/Midway
BEGIN:STANDARD
TZOFFSETFROM:-1100
TZOFFSETTO:-1100
TZNAME:SST
DTSTART:19700101T000000
END:STANDARD
END:VTIMEZONE
BEGIN:VEVENT
UID:5072275:Event:1075324
DTSTAMP:20260423T134619Z
SUMMARY:24  Hours of Lemons -Braselton, GA
DESCRIPTION:24 Hours of Lemons\r\nGet ready, because one of the most e
 pic beater showdowns to grace the racetrack is coming this weekend, De
 cember 9 and 10. The 24 Hours of Lemons, a two-day contest amongst rac
 e cars that can't be valued at more than $500, brings hoopties from 
 near and far for a hilarious battle of brains, brawn, strategy and a l
 ot of guts. \r\nThese cars will not only be working to outpace the com
 petition, but will try to survive the toll that two days of racing tak
 es on their jalopies. What could be more fun than witnessing this?!\r\
 nTickets on sale for $30 at the gate. Children and teens 16 and under 
 admitted for free. \r\nMore Info >>>\r\n\r\n\n\nFor more information v
 isit https://www.southeastwheelsevents.com/events/24-hours-of-lemons-b
 raselton-ga-1
DTSTART;TZID=Pacific/Midway:20171209T000000
DTEND;TZID=Pacific/Midway:20171210T235900
CATEGORIES:festival, race, event
LOCATION:Road Atlanta
WEBSITE:https://www.roadatlanta.com/
URL:https://www.roadatlanta.com/
CONTACT:1-800-849-RACE
ORGANIZER:Road Atlanta
ATTACH;FMTTYPE="image/jpeg":http://storage.ning.com/topology/rest/1.0/
 file/get/967757928?profile=original
ATTENDEE;ROLE=REQ-PARTICIPANT;PARTSTAT=ACCEPTED;RSVP=TRUE;CN="Michael 
 Thies":https://www.southeastwheelsevents.com/profile/MichaelThies
ATTENDEE;ROLE=REQ-PARTICIPANT;PARTSTAT=ACCEPTED;RSVP=TRUE;CN="Chuck Aa
 ron":https://www.southeastwheelsevents.com/profile/ChuckAaron886
END:VEVENT
END:VCALENDAR
