BEGIN:VCALENDAR
PRODID:NingEventWidget-v1
VERSION:2.0
METHOD:PUBLISH
BEGIN:VTIMEZONE
TZID:Pacific/Midway
X-LIC-LOCATION:Pacific/Midway
BEGIN:STANDARD
TZOFFSETFROM:-1100
TZOFFSETTO:-1100
TZNAME:SST
DTSTART:19700101T000000
END:STANDARD
END:VTIMEZONE
BEGIN:VEVENT
UID:5072275:Event:1099435
DTSTAMP:20260420T062531Z
SUMMARY:24th Annual Autumn Run Car, Truck and Motorcycle Show - Clarks
 ville, Tn
DESCRIPTION:24th Annual Autumn Run Car, Truck and Motorcycle Show at G
 overnor's Square Mall.\n\nFor more information visit https://www.south
 eastwheelsevents.com/events/24th-annual-autumn-run-car-truck-and-motor
 cycle-show-clarksville
DTSTART;TZID=Pacific/Midway:20180922T090000
DTEND;TZID=Pacific/Midway:20180922T160000
CATEGORIES:car, truck, and, motorcycle, show
LOCATION:Governor's Square Mall,
WEBSITE:http://memorylanecruisers.net
URL:http://memorylanecruisers.net
CONTACT:(615) 517-1423, (931) 627-2446, (615) 767-1549
ORGANIZER:Jim Hutchens, Elmer Jones, Shannon Harris,
ATTACH;FMTTYPE="image/jpeg":http://storage.ning.com/topology/rest/1.0/
 file/get/967793320?profile=original
ATTENDEE;ROLE=REQ-PARTICIPANT;PARTSTAT=ACCEPTED;RSVP=TRUE;CN="Anthony 
 Hopkins":https://www.southeastwheelsevents.com/profile/AnthonyHopkins
END:VEVENT
END:VCALENDAR
