BEGIN:VCALENDAR
PRODID:NingEventWidget-v1
VERSION:2.0
METHOD:PUBLISH
BEGIN:VTIMEZONE
TZID:Pacific/Midway
X-LIC-LOCATION:Pacific/Midway
BEGIN:STANDARD
TZOFFSETFROM:-1100
TZOFFSETTO:-1100
TZNAME:SST
DTSTART:19700101T000000
END:STANDARD
END:VTIMEZONE
BEGIN:VEVENT
UID:5072275:Event:700403
DTSTAMP:20260423T145340Z
SUMMARY:Annual Peach State Bow Tie Show -Lawrenceville, GA
DESCRIPTION:Come join us for the 25th Annual Peach State Bow Tie Show 
 at Nash Chevrolet in Lawrenceville on October 11th.  Open to all Chev
 rolet and Chevy powered vehicles.  $500 in cash door prizes, free hot
  dog lunch courtesy of Nash Chevrolet.  Separate stock & modified cla
 sses for all major makes of Chevys.  For more information contact Joh
 nny at 770-598-4077 or Randy at 770-905-1638.\n\nFor more information 
 visit https://www.southeastwheelsevents.com/events/24th-annual-peach-s
 tate-bow-tie-show
DTSTART;TZID=Pacific/Midway:20141011T090000
DTEND;TZID=Pacific/Midway:20141011T170000
CATEGORIES:car, show
LOCATION:Nash Chevrolet
WEBSITE:
URL:
CONTACT:770-598-4077 or 770-905-1638
ORGANIZER:Peach State Chevy Club
ATTACH;FMTTYPE="image/jpeg":http://storage.ning.com/topology/rest/1.0/
 file/get/967646776?profile=original
ATTENDEE;ROLE=REQ-PARTICIPANT;PARTSTAT=ACCEPTED;RSVP=TRUE;CN="Chuck Aa
 ron":https://www.southeastwheelsevents.com/profile/ChuckAaron
ATTENDEE;ROLE=REQ-PARTICIPANT;PARTSTAT=ACCEPTED;RSVP=TRUE;CN="Michael 
 Brewer":https://www.southeastwheelsevents.com/profile/MichaelBrewer
ATTENDEE;ROLE=REQ-PARTICIPANT;PARTSTAT=ACCEPTED;RSVP=TRUE;CN="Jerry Jo
 nes":https://www.southeastwheelsevents.com/profile/JerryJOnes
ATTENDEE;ROLE=REQ-PARTICIPANT;PARTSTAT=ACCEPTED;RSVP=TRUE;CN="Michael 
 Ruffalo":https://www.southeastwheelsevents.com/profile/MichaelRuffalo
ATTENDEE;ROLE=REQ-PARTICIPANT;PARTSTAT=ACCEPTED;RSVP=TRUE;CN="Bruce Jo
 nes":https://www.southeastwheelsevents.com/profile/BruceJones
ATTENDEE;ROLE=REQ-PARTICIPANT;PARTSTAT=TENTATIVE;RSVP=TRUE;CN="Tom Sor
 ensen":https://www.southeastwheelsevents.com/profile/TomSorensen
END:VEVENT
END:VCALENDAR
