BEGIN:VCALENDAR
PRODID:NingEventWidget-v1
VERSION:2.0
METHOD:PUBLISH
BEGIN:VTIMEZONE
TZID:Pacific/Midway
X-LIC-LOCATION:Pacific/Midway
BEGIN:STANDARD
TZOFFSETFROM:-1100
TZOFFSETTO:-1100
TZNAME:SST
DTSTART:19700101T000000
END:STANDARD
END:VTIMEZONE
BEGIN:VEVENT
UID:5072275:Event:1041297
DTSTAMP:20260423T093334Z
SUMMARY:25K Showdowns
DESCRIPTION:\n•    ¼-Mile Dragstrip•    Concrete to the 1/8
 -Mile•    Track Built to IHRA and NHRA Specifications•    Tr
 ack Milled and Polished by Penhall•    Trans Lux LED Score Boards
  with 48\" Digits•    Bob Brockmeyer/Compulink Timing and Scoring
  System\n\n•    Ample Bleacher Seating Accommodating Events of Al
 l Sizes•    Concrete Guard Walls Through Shut Down Area•    
 Available for Corporate and Group Events•    Private Testing• 
    Hospitality Rental & VIP Access•    12 Private Viewing Suite
 s Available•    Emergency Personnel On-Site for All Events\n\n\n\
 n\n\nFor more information visit https://www.southeastwheelsevents.com/
 events/25k-showdowns
DTSTART;TZID=Pacific/Midway:20170330T000000
DTEND;TZID=Pacific/Midway:20170402T235900
CATEGORIES:race
LOCATION:Memphis International Raceway
WEBSITE:http://racemir.com/
URL:http://racemir.com/
CONTACT:901.969.7223
ORGANIZER:
ATTACH;FMTTYPE="image/jpeg":http://storage.ning.com/topology/rest/1.0/
 file/get/967741109?profile=original
ATTENDEE;ROLE=REQ-PARTICIPANT;PARTSTAT=ACCEPTED;RSVP=TRUE;CN="Christop
 her Gosney":https://www.southeastwheelsevents.com/profile/ChristopherG
 osney
END:VEVENT
END:VCALENDAR
