BEGIN:VCALENDAR
PRODID:NingEventWidget-v1
VERSION:2.0
METHOD:PUBLISH
BEGIN:VTIMEZONE
TZID:Pacific/Midway
X-LIC-LOCATION:Pacific/Midway
BEGIN:STANDARD
TZOFFSETFROM:-1100
TZOFFSETTO:-1100
TZNAME:SST
DTSTART:19700101T000000
END:STANDARD
END:VTIMEZONE
BEGIN:VEVENT
UID:5072275:Event:1111372
DTSTAMP:20260424T045816Z
SUMMARY:25th Annual \"Christmas on the Square\" Antique Car Show and P
 arade - Blakely, Ga
DESCRIPTION:25th Annual \"Christmas on the Square\" Antique Car Show a
 nd Parade.\n\nFor more information visit https://www.southeastwheelsev
 ents.com/events/25th-annual-christmas-on-the-square-antique-car-show-a
 nd-parade
DTSTART;TZID=Pacific/Midway:20181201T080000
DTEND;TZID=Pacific/Midway:20181201T133000
CATEGORIES:car, show, cruise, in
LOCATION:Blakely, Ga
WEBSITE:
URL:
CONTACT:(229) 723-3741
ORGANIZER:COC
ATTACH;FMTTYPE="image/jpeg":http://storage.ning.com/topology/rest/1.0/
 file/get/967803814?profile=original
ATTENDEE;ROLE=REQ-PARTICIPANT;PARTSTAT=ACCEPTED;RSVP=TRUE;CN="Anthony 
 Hopkins":https://www.southeastwheelsevents.com/profile/AnthonyHopkins
END:VEVENT
END:VCALENDAR
