BEGIN:VCALENDAR
PRODID:NingEventWidget-v1
VERSION:2.0
METHOD:PUBLISH
BEGIN:VTIMEZONE
TZID:Pacific/Midway
X-LIC-LOCATION:Pacific/Midway
BEGIN:STANDARD
TZOFFSETFROM:-1100
TZOFFSETTO:-1100
TZNAME:SST
DTSTART:19700101T000000
END:STANDARD
END:VTIMEZONE
BEGIN:VEVENT
UID:5072275:Event:1101427
DTSTAMP:20260423T062519Z
SUMMARY:25th Annual GoodGuys Southeastern Nationals - Concord, Nc
DESCRIPTION:25th Annual GoodGuvs Southeastern Nationals at Charlotte M
 otor Speedway, Pre '88.\n\nFor more information visit https://www.sout
 heastwheelsevents.com/events/25th-annual-goodguys-southeastern-nationa
 ls-concord-nc
DTSTART;TZID=Pacific/Midway:20181019T180000
DTEND;TZID=Pacific/Midway:20181020T210000
CATEGORIES:car, show, cruise, in
LOCATION:Charlotte Motor Speedway,
WEBSITE:http://good-guys.com
URL:http://good-guys.com
CONTACT:(925) 838-9876
ORGANIZER:
ATTACH;FMTTYPE="image/jpeg":http://storage.ning.com/topology/rest/1.0/
 file/get/967798068?profile=original
ATTENDEE;ROLE=REQ-PARTICIPANT;PARTSTAT=ACCEPTED;RSVP=TRUE;CN="Anthony 
 Hopkins":https://www.southeastwheelsevents.com/profile/AnthonyHopkins
END:VEVENT
END:VCALENDAR
