BEGIN:VCALENDAR
PRODID:NingEventWidget-v1
VERSION:2.0
METHOD:PUBLISH
BEGIN:VTIMEZONE
TZID:Pacific/Midway
X-LIC-LOCATION:Pacific/Midway
BEGIN:STANDARD
TZOFFSETFROM:-1100
TZOFFSETTO:-1100
TZNAME:SST
DTSTART:19700101T000000
END:STANDARD
END:VTIMEZONE
BEGIN:VEVENT
UID:5072275:Event:602173
DTSTAMP:20260420T234932Z
SUMMARY:26th Annual Carolina Collector Auto Fest - 1025 Blue ridge Rd.
  Raleigh, NC
DESCRIPTION:Three days of Swap Meet, Car Shows and Car Corral - Over 1
 50,000 sq. ft. indoor space with over 100 vendors - Friday is Swap Mee
 t Friday with $5.00 admission for all - Classic Car Show (1974 & earli
 er) on Saturday and \"Open\" Car Show on Sunday with over 100 Awards -
  Admission Sat. & Sun. is $10.00 for Adults, $8.00 for Seniors (over 6
 0), Students (10-17), and Military with ID - 50/50 & Door Prizes - FRE
 E Parking\n\nFor more information visit https://www.southeastwheelseve
 nts.com/events/26th-annual-carolina-collector-auto-fest-1025-blue-ridg
 e-rd
DTSTART;TZID=Pacific/Midway:20130308T100000
DTEND;TZID=Pacific/Midway:20130310T150000
CATEGORIES:benefitting, american, diabetes, association
LOCATION:NC State Fairgrounds
WEBSITE:http://www.carolinacollectorautofest.com
URL:http://www.carolinacollectorautofest.com
CONTACT:336-972-4362
ORGANIZER:Phillip Walker Auctions
ATTACH;FMTTYPE="image/jpeg":http://storage.ning.com/topology/rest/1.0/
 file/get/967631734?profile=original
ATTENDEE;ROLE=REQ-PARTICIPANT;PARTSTAT=ACCEPTED;RSVP=TRUE;CN="Randy My
 ers":https://www.southeastwheelsevents.com/profile/RandyMyers
END:VEVENT
END:VCALENDAR
