BEGIN:VCALENDAR
PRODID:NingEventWidget-v1
VERSION:2.0
METHOD:PUBLISH
BEGIN:VTIMEZONE
TZID:Pacific/Midway
X-LIC-LOCATION:Pacific/Midway
BEGIN:STANDARD
TZOFFSETFROM:-1100
TZOFFSETTO:-1100
TZNAME:SST
DTSTART:19700101T000000
END:STANDARD
END:VTIMEZONE
BEGIN:VEVENT
UID:5072275:Event:1041266
DTSTAMP:20260422T141511Z
SUMMARY:26th annual MOPARS at The ROCK presented by Indy Cylinder Head
 s
DESCRIPTION:\n\nFor more information visit https://www.southeastwheels
 events.com/events/26th-annual-mopars-at-the-rock-presented-by-indy-cyl
 inder-heads
DTSTART;TZID=Pacific/Midway:20170401T000000
DTEND;TZID=Pacific/Midway:20170401T235900
CATEGORIES:race
LOCATION:Rockingham Dragway
WEBSITE:http://www.rockinghamdragway.com/
URL:http://www.rockinghamdragway.com/
CONTACT:(910) 582-3400
ORGANIZER:
ATTACH;FMTTYPE="image/jpeg":http://storage.ning.com/topology/rest/1.0/
 file/get/967741107?profile=original
ATTENDEE;ROLE=REQ-PARTICIPANT;PARTSTAT=ACCEPTED;RSVP=TRUE;CN="Christop
 her Gosney":https://www.southeastwheelsevents.com/profile/ChristopherG
 osney
END:VEVENT
END:VCALENDAR
