BEGIN:VCALENDAR
PRODID:NingEventWidget-v1
VERSION:2.0
METHOD:PUBLISH
BEGIN:VTIMEZONE
TZID:Pacific/Midway
X-LIC-LOCATION:Pacific/Midway
BEGIN:STANDARD
TZOFFSETFROM:-1100
TZOFFSETTO:-1100
TZNAME:SST
DTSTART:19700101T000000
END:STANDARD
END:VTIMEZONE
BEGIN:VEVENT
UID:5072275:Event:928101
DTSTAMP:20260425T024000Z
SUMMARY:285 Old School Ride Along -Forest Park, GA
DESCRIPTION:285 Old School Ride Along - Cruise I-295 to benefit Childr
 en's Healthcare of Atlanta\nStarts at 10am at 5880 Old Dixie Highway i
 n Forest Park, GA\n\nFor more information visit https://www.southeastw
 heelsevents.com/events/285-old-school-ride-along-forest-park-ga
DTSTART;TZID=Pacific/Midway:20150905T100000
DTEND;TZID=Pacific/Midway:20150905T140000
CATEGORIES:crusie, ridealong
LOCATION:Start Point
WEBSITE:
URL:
CONTACT:Info: JB 678-698-4653
ORGANIZER:Old School Ride Along
ATTACH;FMTTYPE="image/jpeg":http://storage.ning.com/topology/rest/1.0/
 file/get/967693762?profile=original
ATTENDEE;ROLE=REQ-PARTICIPANT;PARTSTAT=ACCEPTED;RSVP=TRUE;CN="Chuck Aa
 ron":https://www.southeastwheelsevents.com/profile/ChuckAaron
END:VEVENT
END:VCALENDAR
