BEGIN:VCALENDAR
PRODID:NingEventWidget-v1
VERSION:2.0
METHOD:PUBLISH
BEGIN:VTIMEZONE
TZID:Pacific/Midway
X-LIC-LOCATION:Pacific/Midway
BEGIN:STANDARD
TZOFFSETFROM:-1100
TZOFFSETTO:-1100
TZNAME:SST
DTSTART:19700101T000000
END:STANDARD
END:VTIMEZONE
BEGIN:VEVENT
UID:5072275:Event:1103005
DTSTAMP:20260421T035104Z
SUMMARY:28th Annual British Car Festival - Fairhope, Al
DESCRIPTION:28th Annual British Car Festival at Fairhope United Method
 ist Church, 155 South Section Street.\n\nFor more information visit ht
 tps://www.southeastwheelsevents.com/events/28th-annual-british-car-fes
 tival-fairhope-al
DTSTART;TZID=Pacific/Midway:20181027T090000
DTEND;TZID=Pacific/Midway:20181027T160000
CATEGORIES:car, show, cruise-in
LOCATION:Fairhope United Methodist Church,
WEBSITE:http://sabcc.org
URL:http://sabcc.org
CONTACT:(251) 423-6989, (608) 449-4589
ORGANIZER:Rodney McDonald, Andrea Harris
ATTACH;FMTTYPE="image/jpeg":http://storage.ning.com/topology/rest/1.0/
 file/get/967795301?profile=original
ATTENDEE;ROLE=REQ-PARTICIPANT;PARTSTAT=ACCEPTED;RSVP=TRUE;CN="Anthony 
 Hopkins":https://www.southeastwheelsevents.com/profile/AnthonyHopkins
END:VEVENT
END:VCALENDAR
