BEGIN:VCALENDAR
PRODID:NingEventWidget-v1
VERSION:2.0
METHOD:PUBLISH
BEGIN:VTIMEZONE
TZID:Pacific/Midway
X-LIC-LOCATION:Pacific/Midway
BEGIN:STANDARD
TZOFFSETFROM:-1100
TZOFFSETTO:-1100
TZNAME:SST
DTSTART:19700101T000000
END:STANDARD
END:VTIMEZONE
BEGIN:VEVENT
UID:5072275:Event:797974
DTSTAMP:20260423T053714Z
SUMMARY:Annual British In The Blue Ridge Motorcycle Rally -Hiawassee, 
 GA
DESCRIPTION:Please join us for the 33rd Annual British in the Blue Ri
 dge on June 22-23. We will again be holding the event at the Georgia 
 Mountain Fairgrounds for the third year in a row. The venue worked out
  great last year, and we have some improvements in mind as to how we c
 an better use the facility this year to make the event an even bigger 
 success. Make your camping reservations with Georgia Mountain Fairgrou
 nds for the event. We look forward to seeing everyone for another fun 
 weekend of British Bikes in the north Georgia mountains!\n\nFor more i
 nformation visit https://www.southeastwheelsevents.com/events/29th-ann
 ual-british-in-the-blue-ridge-motorcycle-rally
DTSTART;TZID=Pacific/Midway:20180622T080000
DTEND;TZID=Pacific/Midway:20180623T160000
CATEGORIES:motorcycle, rally
LOCATION:Hiawassee, GA
WEBSITE:http://www.gabma.us
URL:http://www.gabma.us
CONTACT:770-843-1254
ORGANIZER:The Greater Atlanta British Motorcycle Assn.
ATTACH;FMTTYPE="image/jpeg":http://storage.ning.com/topology/rest/1.0/
 file/get/967665106?profile=original
ATTENDEE;ROLE=REQ-PARTICIPANT;PARTSTAT=ACCEPTED;RSVP=TRUE;CN="Gabma Cl
 ub":https://www.southeastwheelsevents.com/profile/GabmaClub
END:VEVENT
END:VCALENDAR
