BEGIN:VCALENDAR
PRODID:NingEventWidget-v1
VERSION:2.0
METHOD:PUBLISH
BEGIN:VTIMEZONE
TZID:Pacific/Midway
X-LIC-LOCATION:Pacific/Midway
BEGIN:STANDARD
TZOFFSETFROM:-1100
TZOFFSETTO:-1100
TZNAME:SST
DTSTART:19700101T000000
END:STANDARD
END:VTIMEZONE
BEGIN:VEVENT
UID:5072275:Event:969426
DTSTAMP:20260423T045255Z
SUMMARY:29th Annual NSRA Southeast Street Rod Nationals -Tampa, FL
DESCRIPTION:ALL VEHICLES OF 1986 AND EARLIER MANUFACTURE ARE WELCOME T
 O ENTER THE EVENT.  Take advantage of the $10.00 pre-entry discount av
 ailable through the March 11th mail-in deadline. When this deadline ha
 s passed we will be able to accept your entry at the event headquarter
 s, which will be held at the Sheraton Tampa East located at 10221 Prin
 cess Palm Avenue in Tampa.  Event Registration Hours:\nThursday, March
  31st - 2:00 p.m. to 6:00 p.m.\nFriday, April 1st - 9:00 a.m. to 6:00 
 p.m.\nSaturday, April 2nd - 9:00 a.m. to 2:00 p.m.  Even though you ma
 y not be in your rod everyone is welcome to attend the event. Bring th
 e whole family for a day at the Florida State Fairgrounds.   Spectato
 r gate hours:  Friday, April 1st and Saturday, April 2nd  8:00 a.m. t
 o 5:00 p.m.   Sunday, April 3rd from  8:30 a.m. to 2:00 p.m.  Specta
 tor admission will be:  $15.00 - 13 years and older. $6.00 - CHILDREN 
 6 through 12.  FREE - Children 5 and under when accompannied by an ad
 ult.  A special discounted $13.00 admission is available for military 
 personnel with proper military Identification, NSRA members with their
  current membership card or anyone 60 years of age andolder.  One dis
 counted admission per person.  Although everyone will enjoy the specta
 cular vehicles as well as the vehicles’ owners there are other activ
 ities the family will enjoy. Here are a few activities that you will e
 njoy: Commercial Exhibitors, Swap Meet, Women’s World (exhibitors wi
 th items that will interest women as well as men and children) and eve
 n a model car show.  For additional event information please contact t
 he National Street Rod Association®; 4030 Park Avenue; Memphis, TN 38
 111 - 901-452-4030.\n\nFor more information visit https://www.southeas
 twheelsevents.com/events/29th-annual-nsra-southeast-street-rod-nationa
 ls
DTSTART;TZID=Pacific/Midway:20160401T080000
DTEND;TZID=Pacific/Midway:20160403T150000
CATEGORIES:car, show
LOCATION:Florida State Fairgrounds, Tampa, Florida
WEBSITE:http://www.floridastatefair.com
URL:http://www.floridastatefair.com
CONTACT:901-452-4030
ORGANIZER:NSRA
ATTACH;FMTTYPE="image/jpeg":
ATTENDEE;ROLE=REQ-PARTICIPANT;PARTSTAT=ACCEPTED;RSVP=TRUE;CN="Craig Me
 ads":https://www.southeastwheelsevents.com/profile/CraigMeads
ATTENDEE;ROLE=REQ-PARTICIPANT;PARTSTAT=TENTATIVE;RSVP=TRUE;CN="Michael
  Thies":https://www.southeastwheelsevents.com/profile/MichaelThies
END:VEVENT
END:VCALENDAR
