BEGIN:VCALENDAR
PRODID:NingEventWidget-v1
VERSION:2.0
METHOD:PUBLISH
BEGIN:VTIMEZONE
TZID:Pacific/Midway
X-LIC-LOCATION:Pacific/Midway
BEGIN:STANDARD
TZOFFSETFROM:-1100
TZOFFSETTO:-1100
TZNAME:SST
DTSTART:19700101T000000
END:STANDARD
END:VTIMEZONE
BEGIN:VEVENT
UID:5072275:Event:1180351
DTSTAMP:20260424T073555Z
SUMMARY:2nd Annual Car and Bike Show - Fort Mitchell, Al
DESCRIPTION:2nd Annual Car and Bike Show \n\nFor more information vis
 it https://www.southeastwheelsevents.com/events/2nd-annual-car-and-bik
 e-show-fort-mitchell-al
DTSTART;TZID=Pacific/Midway:20191110T150000
DTEND;TZID=Pacific/Midway:20191110T180000
CATEGORIES:car, show, motorcycle
LOCATION:The Dream Center,
WEBSITE:https://www.google.com/maps?q=1026+Hwy+165,+Fort+Mitchell,+Al&
 amp;amp;amp;amp;um=1&amp;amp;amp;amp;ie=UTF-8&amp;amp;amp;amp;sa=X&amp
 ;amp;amp;amp;ved=0ahUKEwju09Gnx9vlAhW98HMBHYv6BtYQ_AUIEigB
URL:https://www.google.com/maps?q=1026+Hwy+165,+Fort+Mitchell,+Al&amp;
 amp;amp;amp;um=1&amp;amp;amp;amp;ie=UTF-8&amp;amp;amp;amp;sa=X&amp;amp
 ;amp;amp;ved=0ahUKEwju09Gnx9vlAhW98HMBHYv6BtYQ_AUIEigB
CONTACT:334-520-7428
ORGANIZER:Demetrius Ford
ATTACH;FMTTYPE="image/jpeg":https://storage.ning.com/topology/rest/1.0
 /file/get/2631759117?profile=original
ATTENDEE;ROLE=REQ-PARTICIPANT;PARTSTAT=ACCEPTED;RSVP=TRUE;CN="Anthony 
 Hopkins":https://www.southeastwheelsevents.com/profile/AnthonyHopkins
END:VEVENT
END:VCALENDAR
