BEGIN:VCALENDAR
PRODID:NingEventWidget-v1
VERSION:2.0
METHOD:PUBLISH
BEGIN:VTIMEZONE
TZID:Pacific/Midway
X-LIC-LOCATION:Pacific/Midway
BEGIN:STANDARD
TZOFFSETFROM:-1100
TZOFFSETTO:-1100
TZNAME:SST
DTSTART:19700101T000000
END:STANDARD
END:VTIMEZONE
BEGIN:VEVENT
UID:5072275:Event:1082614
DTSTAMP:20260419T054615Z
SUMMARY:Toys For Tots Car and Bike Show, Tuscaloosa AL
DESCRIPTION:\r\nCar and Bike Show benefitingToys For Tots of Tuscaloos
 a\r\nBring an unwrapped Toy!\n\nFor more information visit https://www
 .southeastwheelsevents.com/events/2nd-annual-car-and-bike-show-tuscalo
 osa-al
DTSTART;TZID=Pacific/Midway:20221203T090000
DTEND;TZID=Pacific/Midway:20221203T150000
CATEGORIES:"fundraiser.", car, show
LOCATION:University Mall
WEBSITE:http://www.capstuscaloosa.com
URL:http://www.capstuscaloosa.com
CONTACT:205-310-5058
ORGANIZER:
ATTACH;FMTTYPE="image/jpeg":
ATTENDEE;ROLE=REQ-PARTICIPANT;PARTSTAT=ACCEPTED;RSVP=TRUE;CN="Lisa Mad
 dox":https://www.southeastwheelsevents.com/profile/LisaMaddox
END:VEVENT
END:VCALENDAR
