BEGIN:VCALENDAR
PRODID:NingEventWidget-v1
VERSION:2.0
METHOD:PUBLISH
BEGIN:VTIMEZONE
TZID:Pacific/Midway
X-LIC-LOCATION:Pacific/Midway
BEGIN:STANDARD
TZOFFSETFROM:-1100
TZOFFSETTO:-1100
TZNAME:SST
DTSTART:19700101T000000
END:STANDARD
END:VTIMEZONE
BEGIN:VEVENT
UID:5072275:Event:413111
DTSTAMP:20260423T092120Z
SUMMARY:2nd Annual Car, Bike and Truck Show for MTLC -Lawrenceville, G
 A
DESCRIPTION:Here we go I am hosting a car, truck and bike show like we
  did last year to benefit the under privileged kids with musical talen
 t, this wonderful organization has helped many kids have a chance to l
 earn music or play an instrument that they would have never had a chan
 ce to, but thanks to people like them and you we can help again this y
 ear. We will have over 30 trophies invcuding Best of Show and Peoples 
 Choice along with best Ford,Chevy, 7 other categories and top 20. Top 
 Bike and Top Truck trophies as well. Many, many gifts for you car owne
 rs forhelping out. There will be BBQ, entertainment and more, we are p
 alanning on a large turn out of viewers as well as car owners. We will
  hold awards at 12;30 and beable to haed to other cars shows such as E
 E Robinson which will stillhave regsitration going on so we all will h
 ave plenty of time to get two shows in thast day. Really need your sup
 port and we will make sure it was worth it to all you car owners. $20 
 cars, $15 truck and $10 bikes.Please help support the kids. Huge thank
 s to all of you.\n\nFor more information visit https://www.southeastwh
 eelsevents.com/events/2nd-annual-car-bike-and-trcuk-show-for-mtlc
DTSTART;TZID=Pacific/Midway:20111022T090000
DTEND;TZID=Pacific/Midway:20111022T123000
CATEGORIES:fundraiser, for, children
LOCATION:Fairview Presbyterian Church
WEBSITE:http://www.MusicTimeLearning.org
URL:http://www.MusicTimeLearning.org
CONTACT:770-630-8097
ORGANIZER:Gene  Kerley
ATTACH;FMTTYPE="image/jpeg":http://storage.ning.com/topology/rest/1.0/
 file/get/967600438?profile=original
ATTENDEE;ROLE=REQ-PARTICIPANT;PARTSTAT=ACCEPTED;RSVP=TRUE;CN="Gene S K
 erley":https://www.southeastwheelsevents.com/profile/GeneSKerley
ATTENDEE;ROLE=REQ-PARTICIPANT;PARTSTAT=TENTATIVE;RSVP=TRUE;CN="Rodney 
 Wallin":https://www.southeastwheelsevents.com/profile/Rodneywallin
ATTENDEE;ROLE=REQ-PARTICIPANT;PARTSTAT=TENTATIVE;RSVP=TRUE;CN="Darlene
  Scott":https://www.southeastwheelsevents.com/profile/Darlene
ATTENDEE;ROLE=REQ-PARTICIPANT;PARTSTAT=TENTATIVE;RSVP=TRUE;CN="Bob Har
 tman":https://www.southeastwheelsevents.com/profile/BobHartman
END:VEVENT
END:VCALENDAR
