BEGIN:VCALENDAR
PRODID:NingEventWidget-v1
VERSION:2.0
METHOD:PUBLISH
BEGIN:VTIMEZONE
TZID:Pacific/Midway
X-LIC-LOCATION:Pacific/Midway
BEGIN:STANDARD
TZOFFSETFROM:-1100
TZOFFSETTO:-1100
TZNAME:SST
DTSTART:19700101T000000
END:STANDARD
END:VTIMEZONE
BEGIN:VEVENT
UID:5072275:Event:134609
DTSTAMP:20260424T154805Z
SUMMARY:2nd Annual Car Show and BBQ -Hampton, GA
DESCRIPTION:Bring the whole family to our Christmas in July Festival a
 nd enjoy a car show and good barbecue under the huge oaks of County Li
 ne Church.  You can sit in the shade all day.  Free lunch to all who
  register early.  Please see our attached flyer.\n\nFor more informat
 ion visit https://www.southeastwheelsevents.com/events/2nd-annual-car-
 show-and-bbq
DTSTART;TZID=Pacific/Midway:20110730T100000
DTEND;TZID=Pacific/Midway:20110730T150000
CATEGORIES:fundraiser
LOCATION:County Line Church, Hampton, GA
WEBSITE:http://www.hawkco.com/maverick/CLCCarShow2011.pdf
URL:http://www.hawkco.com/maverick/CLCCarShow2011.pdf
CONTACT:Terry 404-213-9817 or Tom 770-827-5357
ORGANIZER:County Line Church
ATTACH;FMTTYPE="image/jpeg":
ATTENDEE;ROLE=REQ-PARTICIPANT;PARTSTAT=ACCEPTED;RSVP=TRUE;CN="Terry Ha
 wkins":https://www.southeastwheelsevents.com/profile/TerryHawkins
ATTENDEE;ROLE=REQ-PARTICIPANT;PARTSTAT=ACCEPTED;RSVP=TRUE;CN="joe good
 mon":https://www.southeastwheelsevents.com/profile/joegoodmon
END:VEVENT
END:VCALENDAR
