BEGIN:VCALENDAR
PRODID:NingEventWidget-v1
VERSION:2.0
METHOD:PUBLISH
BEGIN:VTIMEZONE
TZID:Pacific/Midway
X-LIC-LOCATION:Pacific/Midway
BEGIN:STANDARD
TZOFFSETFROM:-1100
TZOFFSETTO:-1100
TZNAME:SST
DTSTART:19700101T000000
END:STANDARD
END:VTIMEZONE
BEGIN:VEVENT
UID:5072275:Event:6618
DTSTAMP:20260424T160258Z
SUMMARY:2nd Annual Car, Truck, & Motorcycle Show -Macon, Ga
DESCRIPTION:Time: April 10, 2010 from 8:30am to 3pm\nLocation: New Beg
 inning Worship Center\n1912 Tucker Road\nMacon, Ga\nPhone: 478.935.342
 4\nEvent Type: car, show\nOrganized By: Leonard Faircloth\n\nFor more 
 information visit https://www.southeastwheelsevents.com/events/2nd-ann
 ual-car-truck
DTSTART;TZID=Pacific/Midway:20100410T080000
DTEND;TZID=Pacific/Midway:20100410T150000
CATEGORIES:car-show
LOCATION:New Beginning Worship Center
WEBSITE:
URL:
CONTACT:478.935.3424
ORGANIZER:Leonard Faircloth
ATTACH;FMTTYPE="image/jpeg":
ATTENDEE;ROLE=REQ-PARTICIPANT;PARTSTAT=ACCEPTED;RSVP=TRUE;CN="Michael 
 Thies":https://www.southeastwheelsevents.com/profile/MichaelThies
END:VEVENT
END:VCALENDAR
