BEGIN:VCALENDAR
PRODID:NingEventWidget-v1
VERSION:2.0
METHOD:PUBLISH
BEGIN:VTIMEZONE
TZID:Pacific/Midway
X-LIC-LOCATION:Pacific/Midway
BEGIN:STANDARD
TZOFFSETFROM:-1100
TZOFFSETTO:-1100
TZNAME:SST
DTSTART:19700101T000000
END:STANDARD
END:VTIMEZONE
BEGIN:VEVENT
UID:5072275:Event:492145
DTSTAMP:20260423T085036Z
SUMMARY:2nd Annual Cruise-In for Military Hero’s
DESCRIPTION:Cost: $10 per Entry\n           Free to Public\n
            Donations will be accepted:\n\nAll donations go t
 o Kappa Sigma’s Military Hero’s Campaign.\n\nRegistration will sta
 rt at 10:00am and Judging at 1:00pm\n\n“For Sale” signs are allowe
 d    \nArm Bands given to all owners/crew in show for re-entry\n\
 nVehicles Allowed in Show:\n\nVintage vehicles, muscle cars, drag race
  cars, show cars/trucks, show imports, and motorcycles\n\nPrizes:\n\nB
 est in show all categories\nBest Nostalgia\nBest Interior\nBest Under 
 construction\nBest Custom\nBest Club Participation\n\n\nFor more infor
 mation visit https://www.southeastwheelsevents.com/events/2nd-annual-c
 ruise-in-for-military-hero-s-1
DTSTART;TZID=Pacific/Midway:20120407T090000
DTEND;TZID=Pacific/Midway:20120407T140000
CATEGORIES:cruise, in
LOCATION:College of Education Parking Lot
WEBSITE:
URL:
CONTACT:251-605-3858
ORGANIZER;CN="Ken Miller":https://www.southeastwheelsevents.com/profil
 e/KenMiller
ATTACH;FMTTYPE="image/jpeg":
ATTENDEE;ROLE=REQ-PARTICIPANT;PARTSTAT=ACCEPTED;RSVP=TRUE;CN="Ken Mill
 er":https://www.southeastwheelsevents.com/profile/KenMiller
END:VEVENT
END:VCALENDAR
