BEGIN:VCALENDAR
PRODID:NingEventWidget-v1
VERSION:2.0
METHOD:PUBLISH
BEGIN:VTIMEZONE
TZID:Pacific/Midway
X-LIC-LOCATION:Pacific/Midway
BEGIN:STANDARD
TZOFFSETFROM:-1100
TZOFFSETTO:-1100
TZNAME:SST
DTSTART:19700101T000000
END:STANDARD
END:VTIMEZONE
BEGIN:VEVENT
UID:5072275:Event:622030
DTSTAMP:20260424T045525Z
SUMMARY:2nd Annual Cruise The Coop VW show
DESCRIPTION:Lots of Raffle Prizes 50/50 Drawing Tshirts ,Top 10 Awards
 ,Stack Your Rack award. All trophys are hand made Metal Art Awards by 
 Kenneth Baressi.\n\nFor more information visit https://www.southeastwh
 eelsevents.com/events/2nd-annual-cruise-the-coop-vw-show
DTSTART;TZID=Pacific/Midway:20130302T100000
DTEND;TZID=Pacific/Midway:20130302T160000
CATEGORIES:vw, show
LOCATION:Paulding Meadows
WEBSITE:
URL:
CONTACT:
ORGANIZER:
ATTACH;FMTTYPE="image/jpeg":
ATTENDEE;ROLE=REQ-PARTICIPANT;PARTSTAT=ACCEPTED;RSVP=TRUE;CN="Ghia Ghi
 rl":https://www.southeastwheelsevents.com/profile/Joywoehl
ATTENDEE;ROLE=REQ-PARTICIPANT;PARTSTAT=TENTATIVE;RSVP=TRUE;CN="JP Brad
 y":https://www.southeastwheelsevents.com/profile/jpbrady
END:VEVENT
END:VCALENDAR
