BEGIN:VCALENDAR
PRODID:NingEventWidget-v1
VERSION:2.0
METHOD:PUBLISH
BEGIN:VTIMEZONE
TZID:Pacific/Midway
X-LIC-LOCATION:Pacific/Midway
BEGIN:STANDARD
TZOFFSETFROM:-1100
TZOFFSETTO:-1100
TZNAME:SST
DTSTART:19700101T000000
END:STANDARD
END:VTIMEZONE
BEGIN:VEVENT
UID:5072275:Event:178184
DTSTAMP:20260422T052612Z
SUMMARY:2nd Annual Elvis Presley Car Show at Graceland
DESCRIPTION:During the 2011 Memorial Day weekend of Friday May 27- Sun
 day May 29, Elvis' love for collecting cars will be celebrated during
  the 2nd Annual Elvis Presley Car Show at Graceland.\n \nThe special 
 three day event will be free to the public and feature a festival atmo
 sphere complete with music, food, and an impressive display of cars, m
 otorcycles, and more. \n\nFor more information visit https://www.sout
 heastwheelsevents.com/events/2nd-annual-elvis-presley-car
DTSTART;TZID=Pacific/Midway:20110527T000000
DTEND;TZID=Pacific/Midway:20110529T235900
CATEGORIES:car, show, benefitting, charitable, foundation
LOCATION:Memphis, TN  at Elvis Presley's Graceland
WEBSITE:http://www.elvis.com/carshow
URL:http://www.elvis.com/carshow
CONTACT:901-332-3322
ORGANIZER:
ATTACH;FMTTYPE="image/jpeg":
ATTENDEE;ROLE=REQ-PARTICIPANT;PARTSTAT=ACCEPTED;RSVP=TRUE;CN="Jane Ter
 rell":https://www.southeastwheelsevents.com/profile/JaneTerrell
END:VEVENT
END:VCALENDAR
