BEGIN:VCALENDAR
PRODID:NingEventWidget-v1
VERSION:2.0
METHOD:PUBLISH
BEGIN:VTIMEZONE
TZID:Pacific/Midway
X-LIC-LOCATION:Pacific/Midway
BEGIN:STANDARD
TZOFFSETFROM:-1100
TZOFFSETTO:-1100
TZNAME:SST
DTSTART:19700101T000000
END:STANDARD
END:VTIMEZONE
BEGIN:VEVENT
UID:5072275:Event:238622
DTSTAMP:20260419T050610Z
SUMMARY:2nd Annual Gnationals -Eastman, Ga
DESCRIPTION:\n\nFor more information visit https://www.southeastwheels
 events.com/events/2nd-annual-gnationals-eastman
DTSTART;TZID=Pacific/Midway:20110507T080000
DTEND;TZID=Pacific/Midway:20110507T133000
CATEGORIES:fundraiser
LOCATION:Old Morgan Chevrolat
WEBSITE:http://www.gnationals.org
URL:http://www.gnationals.org
CONTACT:478-278-4897
ORGANIZER;CN="C fordham":https://www.southeastwheelsevents.com/profile
 /Cfordham
ATTACH;FMTTYPE="image/jpeg":http://storage.ning.com/topology/rest/1.0/
 file/get/967596104?profile=original
ATTENDEE;ROLE=REQ-PARTICIPANT;PARTSTAT=ACCEPTED;RSVP=TRUE;CN="C fordha
 m":https://www.southeastwheelsevents.com/profile/Cfordham
END:VEVENT
END:VCALENDAR
