BEGIN:VCALENDAR
PRODID:NingEventWidget-v1
VERSION:2.0
METHOD:PUBLISH
BEGIN:VTIMEZONE
TZID:Pacific/Midway
X-LIC-LOCATION:Pacific/Midway
BEGIN:STANDARD
TZOFFSETFROM:-1100
TZOFFSETTO:-1100
TZNAME:SST
DTSTART:19700101T000000
END:STANDARD
END:VTIMEZONE
BEGIN:VEVENT
UID:5072275:Event:477687
DTSTAMP:20260423T175717Z
SUMMARY:2nd ANNUAL GRACEPOINTE BAPTIST CAR SHOW -Marietta, GA
DESCRIPTION:We're right off of Marietta Square! Come show off your cl
 assic\ncar/truck, hot rods, new/old —ALL CARS WELCOME!! \nRAFFLE PR
 IZES every 15 min, and MOONWALK.  \n \nBurgers/Hot dogs/chips/drink
 s will be sold.  We’ll have a Cake Walk,\nBOILED PEANUTS, and more!
 \n \nRegistration 10:00 to 2:00 Awards at 3:00\nReg. Fee $20.00/inclu
 des 1 lunch meal w/registration\nTrophies for Best in Show, Top 10,\nP
 astor’s Choice and Youth’s Choice\n \n\nFor more information visi
 t https://www.southeastwheelsevents.com/events/2nd-annual-gracepointe-
 baptist-car-show
DTSTART;TZID=Pacific/Midway:20120414T100000
DTEND;TZID=Pacific/Midway:20120414T150000
CATEGORIES:car, "show!!!", youth, fundraiser
LOCATION:GracePointe Marietta
WEBSITE:http://www.gracepointemarietta.org/
URL:http://www.gracepointemarietta.org/
CONTACT:678-409-5444
ORGANIZER;CN="Bill & Leigh Whatley":https://www.southeastwheelsevents.
 com/profile/BillLeighWhatley
ATTACH;FMTTYPE="image/jpeg":
ATTENDEE;ROLE=REQ-PARTICIPANT;PARTSTAT=ACCEPTED;RSVP=TRUE;CN="Bill & L
 eigh Whatley":https://www.southeastwheelsevents.com/profile/BillLeighW
 hatley
ATTENDEE;ROLE=REQ-PARTICIPANT;PARTSTAT=TENTATIVE;RSVP=TRUE;CN="Bill mu
 sarra":https://www.southeastwheelsevents.com/profile/billmusarra
END:VEVENT
END:VCALENDAR
