BEGIN:VCALENDAR
PRODID:NingEventWidget-v1
VERSION:2.0
METHOD:PUBLISH
BEGIN:VTIMEZONE
TZID:Pacific/Midway
X-LIC-LOCATION:Pacific/Midway
BEGIN:STANDARD
TZOFFSETFROM:-1100
TZOFFSETTO:-1100
TZNAME:SST
DTSTART:19700101T000000
END:STANDARD
END:VTIMEZONE
BEGIN:VEVENT
UID:5072275:Event:1053752
DTSTAMP:20260423T172114Z
SUMMARY:2nd ANNUAL JOCK AND ROLL AUTO SHOW 4530 HWY 29 N BELTON SC 296
 27
DESCRIPTION:Anderson Jockey Lot presents the 2nd Annual Jock and Roll 
 Auto Show, Benefiting the Boys and Girls Club of Anderson Saturday Jun
 e 24 2017. All car makes, models, styles and years are welcome. Regist
 ration 9 am- 12 noon, $20 registration fee. Over 25 awards\n\nFor more
  information visit https://www.southeastwheelsevents.com/events/2nd-an
 nual-jock-and-roll-auto-show-4530-hwy-29-n-belton-sc-29627
DTSTART;TZID=Pacific/Midway:20170624T090000
DTEND;TZID=Pacific/Midway:20170624T150000
CATEGORIES:charity
LOCATION:Anderson Jockey Lot
WEBSITE:http://www.facebook.com/andersonjockeylot
URL:http://www.facebook.com/andersonjockeylot
CONTACT:864-224-2027
ORGANIZER;CN="Anderson Jockey Lot":https://www.southeastwheelsevents.c
 om/profile/AndersonJockeyLot
ATTACH;FMTTYPE="image/jpeg":http://storage.ning.com/topology/rest/1.0/
 file/get/967746880?profile=original
ATTENDEE;ROLE=REQ-PARTICIPANT;PARTSTAT=ACCEPTED;RSVP=TRUE;CN="Anderson
  Jockey Lot":https://www.southeastwheelsevents.com/profile/AndersonJoc
 keyLot
END:VEVENT
END:VCALENDAR
