BEGIN:VCALENDAR
PRODID:NingEventWidget-v1
VERSION:2.0
METHOD:PUBLISH
BEGIN:VTIMEZONE
TZID:Pacific/Midway
X-LIC-LOCATION:Pacific/Midway
BEGIN:STANDARD
TZOFFSETFROM:-1100
TZOFFSETTO:-1100
TZNAME:SST
DTSTART:19700101T000000
END:STANDARD
END:VTIMEZONE
BEGIN:VEVENT
UID:5072275:Event:1099541
DTSTAMP:20260420T062655Z
SUMMARY:2nd Annual Marietta Police Athletic League Cops and Cars for K
 ids Car Show - Marieta, Ga
DESCRIPTION:2nd Annual Marietta Police Athletic League Cops and  Cars
  for Kids Car Show at the Marietta United Methodist Church.\n\nFor mor
 e information visit https://www.southeastwheelsevents.com/events/2nd-a
 nnual-marietta-police-athletic-league-cops-and-cars-for-kids
DTSTART;TZID=Pacific/Midway:20180922T090000
DTEND;TZID=Pacific/Midway:20180922T130000
CATEGORIES:car, show, cruise, in
LOCATION:Marietta United Methodist Church,
WEBSITE:https://www.google.co.in/maps?q=First+United+Methodist+Church+
 of+Marietta&amp;um=1&amp;ie=UTF-8&amp;sa=X&amp;ved=0ahUKEwjA15n1vKLdAh
 XbXCsKHXQfDnAQ_AUICigB
URL:https://www.google.co.in/maps?q=First+United+Methodist+Church+of+M
 arietta&amp;um=1&amp;ie=UTF-8&amp;sa=X&amp;ved=0ahUKEwjA15n1vKLdAhXbXC
 sKHXQfDnAQ_AUICigB
CONTACT:(678) 978-5556 (RD 10 6)
ORGANIZER:Paul Conyngham
ATTACH;FMTTYPE="image/jpeg":http://storage.ning.com/topology/rest/1.0/
 file/get/967799559?profile=original
ATTENDEE;ROLE=REQ-PARTICIPANT;PARTSTAT=ACCEPTED;RSVP=TRUE;CN="Anthony 
 Hopkins":https://www.southeastwheelsevents.com/profile/AnthonyHopkins
END:VEVENT
END:VCALENDAR
