BEGIN:VCALENDAR
PRODID:NingEventWidget-v1
VERSION:2.0
METHOD:PUBLISH
BEGIN:VTIMEZONE
TZID:Pacific/Midway
X-LIC-LOCATION:Pacific/Midway
BEGIN:STANDARD
TZOFFSETFROM:-1100
TZOFFSETTO:-1100
TZNAME:SST
DTSTART:19700101T000000
END:STANDARD
END:VTIMEZONE
BEGIN:VEVENT
UID:5072275:Event:475516
DTSTAMP:20260424T004523Z
SUMMARY:St Patty's Day Party -Cartersville, GA
DESCRIPTION:The St Patty's Day Party will be held at Harley-Davidson 
 of Cartersville, Georgia on March 17th, 2015.Location:-Harley-Davidson
  of Cartersville, Georgia(2281 Highway 411 NE, Cartersville, GA 30121)
 Come celebrate St Patty's Day with Harley Davidson of Cartersville! P
 lease Contact For More Information:-(888) 965-6342\n\nFor more informa
 tion visit https://www.southeastwheelsevents.com/events/2nd-annual-mas
 onic-home-run-cartersville-ga
DTSTART;TZID=Pacific/Midway:20150217T183000
DTEND;TZID=Pacific/Midway:20150217T220000
CATEGORIES:bike, ride
LOCATION:H-D of Cartersville
WEBSITE:http://www.hdcartersville.com/
URL:http://www.hdcartersville.com/
CONTACT:770-548-5828 or 678-986-6743
ORGANIZER:Alan Lane or Jimmy Tilley
ATTACH;FMTTYPE="image/jpeg":http://storage.ning.com/topology/rest/1.0/
 file/get/967606517?profile=original
ATTENDEE;ROLE=REQ-PARTICIPANT;PARTSTAT=ACCEPTED;RSVP=TRUE;CN=Leroy:htt
 ps://www.southeastwheelsevents.com/profile/Leroy
END:VEVENT
END:VCALENDAR
