BEGIN:VCALENDAR
PRODID:NingEventWidget-v1
VERSION:2.0
METHOD:PUBLISH
BEGIN:VTIMEZONE
TZID:Pacific/Midway
X-LIC-LOCATION:Pacific/Midway
BEGIN:STANDARD
TZOFFSETFROM:-1100
TZOFFSETTO:-1100
TZNAME:SST
DTSTART:19700101T000000
END:STANDARD
END:VTIMEZONE
BEGIN:VEVENT
UID:5072275:Event:1101220
DTSTAMP:20260422T083620Z
SUMMARY:2nd Annual Newlife Fallfest Car Show - Smithville, Tn
DESCRIPTION:2nd Annual Newlife Fallfest Car Show at Newlife Church Con
 nection Center, 750 S. Congress Blvd.\n\nFor more information visit ht
 tps://www.southeastwheelsevents.com/events/2nd-annual-newlife-fallfest
 -car-show-smithville-tn
DTSTART;TZID=Pacific/Midway:20181006T090000
DTEND;TZID=Pacific/Midway:20181006T140000
CATEGORIES:car, show, cruise, in
LOCATION:Newlife Church Connection Center,
WEBSITE:https://www.google.co.in/maps/place/750+S+Congress+Blvd,+Smith
 ville,+TN+37166,+USA/@35.95006,-85.8143877,17z/data=!3m1!4b1!4m5!3m4!1
 s0x8866ce8b5d27479b:0x52bc4c098f24b715!8m2!3d35.95006!4d-85.812199
URL:https://www.google.co.in/maps/place/750+S+Congress+Blvd,+Smithvill
 e,+TN+37166,+USA/@35.95006,-85.8143877,17z/data=!3m1!4b1!4m5!3m4!1s0x8
 866ce8b5d27479b:0x52bc4c098f24b715!8m2!3d35.95006!4d-85.812199
CONTACT:(618) 999-0211
ORGANIZER:Rick
ATTACH;FMTTYPE="image/jpeg":http://storage.ning.com/topology/rest/1.0/
 file/get/967799205?profile=original
ATTENDEE;ROLE=REQ-PARTICIPANT;PARTSTAT=ACCEPTED;RSVP=TRUE;CN="Anthony 
 Hopkins":https://www.southeastwheelsevents.com/profile/AnthonyHopkins
END:VEVENT
END:VCALENDAR
