BEGIN:VCALENDAR
PRODID:NingEventWidget-v1
VERSION:2.0
METHOD:PUBLISH
BEGIN:VTIMEZONE
TZID:Pacific/Midway
X-LIC-LOCATION:Pacific/Midway
BEGIN:STANDARD
TZOFFSETFROM:-1100
TZOFFSETTO:-1100
TZNAME:SST
DTSTART:19700101T000000
END:STANDARD
END:VTIMEZONE
BEGIN:VEVENT
UID:5072275:Event:937699
DTSTAMP:20260425T014708Z
SUMMARY:Annual Old Karts and Arts Downtown Street Festival -Green Cove
  Spings, Fl
DESCRIPTION:Large car show combined with a street fair, arts and craft
 s, food, and children's activities.   More then 250 cars expected and
  displayed on the brick streets of historic Green Cove Springs Florida
 .   Show is open to all years, makes and models.  This year American
  Hotrods and British Sports Cars are featured.   All proceeds benefit
  the Clay County Council on Aging Community Kitchen Project.  The Com
 mercial Kitchen will serve more then 60,000 meals a year for Seniors, 
 Alzheimer's patients, the poor via soup kitchens, and for fundraisers 
 for community non-profits.  Show runs from 10 AM to 4 PM on Historic 
 Wallnut Street, Downtown Green Cove Springs, Fl 32043\n\nFor more info
 rmation visit https://www.southeastwheelsevents.com/events/2nd-annual-
 old-karts-and-arts-downtown-street-festival
DTSTART;TZID=Pacific/Midway:20161105T100000
DTEND;TZID=Pacific/Midway:20161105T160000
CATEGORIES:car, show, craft, fair, food, "children's", activites, stre
 et
LOCATION:Downtown Green Cove Spings Florida (Walnut St.)
WEBSITE:http://www.clayccoa.com
URL:http://www.clayccoa.com
CONTACT:904-531-5021
ORGANIZER:Drew DeCandis, Executive Director, Clay County Council on Ag
 ing
ATTACH;FMTTYPE="image/jpeg":http://storage.ning.com/topology/rest/1.0/
 file/get/967698808?profile=original
ATTENDEE;ROLE=REQ-PARTICIPANT;PARTSTAT=ACCEPTED;RSVP=TRUE;CN="Drew DeC
 andis":https://www.southeastwheelsevents.com/profile/DrewDeCandis
ATTENDEE;ROLE=REQ-PARTICIPANT;PARTSTAT=ACCEPTED;RSVP=TRUE;CN="Snitch A
 dams":https://www.southeastwheelsevents.com/profile/SnitchAdams
ATTENDEE;ROLE=REQ-PARTICIPANT;PARTSTAT=TENTATIVE;RSVP=TRUE;CN="Michael
  Thies":https://www.southeastwheelsevents.com/profile/MichaelThies
END:VEVENT
END:VCALENDAR
