BEGIN:VCALENDAR
PRODID:NingEventWidget-v1
VERSION:2.0
METHOD:PUBLISH
BEGIN:VTIMEZONE
TZID:Pacific/Midway
X-LIC-LOCATION:Pacific/Midway
BEGIN:STANDARD
TZOFFSETFROM:-1100
TZOFFSETTO:-1100
TZNAME:SST
DTSTART:19700101T000000
END:STANDARD
END:VTIMEZONE
BEGIN:VEVENT
UID:5072275:Event:1087109
DTSTAMP:20260424T065715Z
SUMMARY:2nd Annual Operation Music City Car Show - MADISON, TN
DESCRIPTION:2nd Annual Operation Music City Car Show.\n\nFor more info
 rmation visit https://www.southeastwheelsevents.com/events/2nd-annual-
 operation-music-city-car-show-madison-tn
DTSTART;TZID=Pacific/Midway:20180630T080000
DTEND;TZID=Pacific/Midway:20180630T140000
CATEGORIES:car, show
LOCATION:Cornerstone Church
WEBSITE:https://www.google.co.in/maps/place/Cornerstone+Nashville/@36.
 2656468,-86.7358727,17z/data=!3m1!4b1!4m5!3m4!1s0x88644328e7999611:0xc
 d3561bf19631adb!8m2!3d36.2656468!4d-86.733684
URL:https://www.google.co.in/maps/place/Cornerstone+Nashville/@36.2656
 468,-86.7358727,17z/data=!3m1!4b1!4m5!3m4!1s0x88644328e7999611:0xcd356
 1bf19631adb!8m2!3d36.2656468!4d-86.733684
CONTACT:(615)416-3980
ORGANIZER:Eric
ATTACH;FMTTYPE="image/jpeg":http://storage.ning.com/topology/rest/1.0/
 file/get/967773890?profile=original
ATTENDEE;ROLE=REQ-PARTICIPANT;PARTSTAT=ACCEPTED;RSVP=TRUE;CN="Anthony 
 Hopkins":https://www.southeastwheelsevents.com/profile/AnthonyHopkins
END:VEVENT
END:VCALENDAR
