BEGIN:VCALENDAR
PRODID:NingEventWidget-v1
VERSION:2.0
METHOD:PUBLISH
BEGIN:VTIMEZONE
TZID:Pacific/Midway
X-LIC-LOCATION:Pacific/Midway
BEGIN:STANDARD
TZOFFSETFROM:-1100
TZOFFSETTO:-1100
TZNAME:SST
DTSTART:19700101T000000
END:STANDARD
END:VTIMEZONE
BEGIN:VEVENT
UID:5072275:Event:1098208
DTSTAMP:20260420T062228Z
SUMMARY:2nd Annual PTO Car and Truck Show - Athens, Al
DESCRIPTION:2nd Annual PTO Car and Truck Show at Athens High School.\n
 \nFor more information visit https://www.southeastwheelsevents.com/eve
 nts/2nd-annual-pto-car-and-truck-show-athens-al
DTSTART;TZID=Pacific/Midway:20180922T090000
DTEND;TZID=Pacific/Midway:20180922T140000
CATEGORIES:car, show, cruise, in
LOCATION:Athens High School,
WEBSITE:https://www.google.co.in/maps/place/Athens+High+School/@34.803
 3631,-86.9520884,17z/data=!3m1!4b1!4m5!3m4!1s0x88628b22f53ada7d:0x90d3
 c899b5f5630c!8m2!3d34.8033631!4d-86.9498997
URL:https://www.google.co.in/maps/place/Athens+High+School/@34.8033631
 ,-86.9520884,17z/data=!3m1!4b1!4m5!3m4!1s0x88628b22f53ada7d:0x90d3c899
 b5f5630c!8m2!3d34.8033631!4d-86.9498997
CONTACT:(256) 777-0606
ORGANIZER:
ATTACH;FMTTYPE="image/jpeg":http://storage.ning.com/topology/rest/1.0/
 file/get/967791880?profile=original
ATTENDEE;ROLE=REQ-PARTICIPANT;PARTSTAT=ACCEPTED;RSVP=TRUE;CN="Anthony 
 Hopkins":https://www.southeastwheelsevents.com/profile/AnthonyHopkins
END:VEVENT
END:VCALENDAR
