BEGIN:VCALENDAR
PRODID:NingEventWidget-v1
VERSION:2.0
METHOD:PUBLISH
BEGIN:VTIMEZONE
TZID:Pacific/Midway
X-LIC-LOCATION:Pacific/Midway
BEGIN:STANDARD
TZOFFSETFROM:-1100
TZOFFSETTO:-1100
TZNAME:SST
DTSTART:19700101T000000
END:STANDARD
END:VTIMEZONE
BEGIN:VEVENT
UID:5072275:Event:1041925
DTSTAMP:20260422T093722Z
SUMMARY:2nd Annual Southern Crate Late Model Nationals - $5,000-To-Win
   NeSmith National Late Model Series
DESCRIPTION:PLUS Weekly Racing Series Events\n\nFor more information v
 isit https://www.southeastwheelsevents.com/events/2nd-annual-southern-
 crate-late-model-nationals-5-000-to-win
DTSTART;TZID=Pacific/Midway:20170526T000000
DTEND;TZID=Pacific/Midway:20170527T235900
CATEGORIES:race
LOCATION:Whynot Motorsports Park
WEBSITE:http://whynotmotorsportspark.com/events.html
URL:http://whynotmotorsportspark.com/events.html
CONTACT:601-644-3010
ORGANIZER:
ATTACH;FMTTYPE="image/jpeg":http://storage.ning.com/topology/rest/1.0/
 file/get/967741697?profile=original
ATTENDEE;ROLE=REQ-PARTICIPANT;PARTSTAT=ACCEPTED;RSVP=TRUE;CN="Christop
 her Gosney":https://www.southeastwheelsevents.com/profile/ChristopherG
 osney
END:VEVENT
END:VCALENDAR
