BEGIN:VCALENDAR
PRODID:NingEventWidget-v1
VERSION:2.0
METHOD:PUBLISH
BEGIN:VTIMEZONE
TZID:Pacific/Midway
X-LIC-LOCATION:Pacific/Midway
BEGIN:STANDARD
TZOFFSETFROM:-1100
TZOFFSETTO:-1100
TZNAME:SST
DTSTART:19700101T000000
END:STANDARD
END:VTIMEZONE
BEGIN:VEVENT
UID:5072275:Event:482967
DTSTAMP:20260424T112807Z
SUMMARY:2nd Annual St.Matthews Car and Spring Festival Loganville,Ga 3
 0052
DESCRIPTION:On the Grand Lawn at the Vines Mansion and Botanical Garde
 ns,this judged event is open to all cars,trucks and motorcycles.Trophi
 es,door prizes,MODEL CAR CONTEST for boys,girls and grown-ups,50/50 ra
 ffle,Kids Zone,vendors midway,food court,bake sale, 9am to 4pm, rain o
 r shine, $15 in advance $20 day of show\n\nFor more information visit 
 https://www.southeastwheelsevents.com/events/2nd-annual-st-matthews-ca
 r-and-spring-festival-loganville-ga
DTSTART;TZID=Pacific/Midway:20120505T090000
DTEND;TZID=Pacific/Midway:20120505T160000
CATEGORIES:car, "show/spring", festival
LOCATION:Vines Mansion and Botanical Gardens
WEBSITE:http://www.stmattscarshow.com
URL:http://www.stmattscarshow.com
CONTACT:770-238-9281
ORGANIZER;CN="Wayne Lowery":https://www.southeastwheelsevents.com/prof
 ile/WayneLowery
ATTACH;FMTTYPE="image/jpeg":
ATTENDEE;ROLE=REQ-PARTICIPANT;PARTSTAT=ACCEPTED;RSVP=TRUE;CN="Gary Kei
 th Moon":https://www.southeastwheelsevents.com/profile/GaryKeithMoon
ATTENDEE;ROLE=REQ-PARTICIPANT;PARTSTAT=ACCEPTED;RSVP=TRUE;CN="John Bak
 er":https://www.southeastwheelsevents.com/profile/JohnJBaker
ATTENDEE;ROLE=REQ-PARTICIPANT;PARTSTAT=ACCEPTED;RSVP=TRUE;CN="Jerry Jo
 nes":https://www.southeastwheelsevents.com/profile/JerryJOnes
ATTENDEE;ROLE=REQ-PARTICIPANT;PARTSTAT=ACCEPTED;RSVP=TRUE;CN="Steven S
 kubal":https://www.southeastwheelsevents.com/profile/StevenSkubal
ATTENDEE;ROLE=REQ-PARTICIPANT;PARTSTAT=ACCEPTED;RSVP=TRUE;CN="Wayne Lo
 wery":https://www.southeastwheelsevents.com/profile/WayneLowery
END:VEVENT
END:VCALENDAR
