BEGIN:VCALENDAR
PRODID:NingEventWidget-v1
VERSION:2.0
METHOD:PUBLISH
BEGIN:VTIMEZONE
TZID:Pacific/Midway
X-LIC-LOCATION:Pacific/Midway
BEGIN:STANDARD
TZOFFSETFROM:-1100
TZOFFSETTO:-1100
TZNAME:SST
DTSTART:19700101T000000
END:STANDARD
END:VTIMEZONE
BEGIN:VEVENT
UID:5072275:Event:329160
DTSTAMP:20260424T154643Z
SUMMARY:2nd Annual SUMMER MELTDOWN Open Car & Truck Show -Dalton, GA
DESCRIPTION:We want to invite everyone to the 2nd Annual SUMMER MELTDO
 WN Open Car & Truck Show This Saturday July 30th, 2011 at the North Ge
 orgia Fair Grounds in Dalton, Georgia. Pre-Entry $15.00 Day Of Show $
 20.00. Top 3 Awards in 18 Classes. Plus, Specialty Awards. They will b
 e Food, Music, People's Choice, 50/50 Drawing, Door Prizes, and More. 
 We will be at the Fair Grounds Friday the 29th from 11:00 a.m. to 6:00
  p.m.If anyone would like to come, and Pre-Register before Saturday, a
 nd save $5.00. If anyone needs more information contact me anytime. Fr
 ank 706-537-3191. Everyone Welcome! Fun For The Whole Family!\n\nFor m
 ore information visit https://www.southeastwheelsevents.com/events/2nd
 -annual-summer-meltdown
DTSTART;TZID=Pacific/Midway:20110730T080000
DTEND;TZID=Pacific/Midway:20110730T160000
CATEGORIES:open, car, "&", truck, show
LOCATION:North Georgia Fair Grounds
WEBSITE:
URL:
CONTACT:706-537-3191
ORGANIZER;CN="Frank Davis":https://www.southeastwheelsevents.com/profi
 le/FrankDavis
ATTACH;FMTTYPE="image/jpeg":
ATTENDEE;ROLE=REQ-PARTICIPANT;PARTSTAT=ACCEPTED;RSVP=TRUE;CN="Frank Da
 vis":https://www.southeastwheelsevents.com/profile/FrankDavis
END:VEVENT
END:VCALENDAR
