BEGIN:VCALENDAR
PRODID:NingEventWidget-v1
VERSION:2.0
METHOD:PUBLISH
BEGIN:VTIMEZONE
TZID:Pacific/Midway
X-LIC-LOCATION:Pacific/Midway
BEGIN:STANDARD
TZOFFSETFROM:-1100
TZOFFSETTO:-1100
TZNAME:SST
DTSTART:19700101T000000
END:STANDARD
END:VTIMEZONE
BEGIN:VEVENT
UID:5072275:Event:13231
DTSTAMP:20260422T021551Z
SUMMARY:2nd Annual Surfside Beach Memorial Day Car and Truck Show -Myr
 tle Beach, SC
DESCRIPTION:\n2nd Annual Surfside Beach Memorial Day Car and Truck Sho
 w hosted by the Myrtle Beach Car Club and the Chicora Old Car Club. Th
 e first 150 cars to receive a dash plaque. Registration fee is $20.00 
 with registration starting on the 28th from 3pm to 5pm with a parade s
 tarting at 5:15pm, (meet at pier). After the parade there will be a cr
 uz to Lakewood Camp Ground, 5901 Bus Hwy 17-S Myrtle Beach, where you 
 will be given a coupon good for one $6.99 pizza or wing, salad and dri
 nk dinner if you registered for the show. Additional meals are $6.99. 
 You can also register on the 29th from 8am to 11am with awards given a
 t 3pm on the 29th and the show ending about 4pm. Click for Pre registr
 ation form.\n\nCONTACT: Greg Hill 1-843-236-9538, Bob Walker 1-843-236
 -3032 or Dave Epstein 1-843-902-8909\n\nFor more information visit htt
 ps://www.southeastwheelsevents.com/events/2nd-annual-surfside-beach
DTSTART;TZID=Pacific/Midway:20100528T150000
DTEND;TZID=Pacific/Midway:20100529T160000
CATEGORIES:car-and-truck-show
LOCATION:Surfside Pier
WEBSITE:http://www.myrtlebeachcarclub.com/events.php
URL:http://www.myrtlebeachcarclub.com/events.php
CONTACT:Greg Hill 1-843-236-9538,  Bob Walker 1-843-236-3032 or Dave E
 pstein 1-843-902-8909
ORGANIZER:Myrtle Beach Car Club and the Chicora Old Car Club
ATTACH;FMTTYPE="image/jpeg":http://storage.ning.com/topology/rest/1.0/
 file/get/967569412?profile=original
ATTENDEE;ROLE=REQ-PARTICIPANT;PARTSTAT=ACCEPTED;RSVP=TRUE;CN="Michael 
 Thies":https://www.southeastwheelsevents.com/profile/MichaelThies
END:VEVENT
END:VCALENDAR
