BEGIN:VCALENDAR
PRODID:NingEventWidget-v1
VERSION:2.0
METHOD:PUBLISH
BEGIN:VTIMEZONE
TZID:Pacific/Midway
X-LIC-LOCATION:Pacific/Midway
BEGIN:STANDARD
TZOFFSETFROM:-1100
TZOFFSETTO:-1100
TZNAME:SST
DTSTART:19700101T000000
END:STANDARD
END:VTIMEZONE
BEGIN:VEVENT
UID:5072275:Event:1241564
DTSTAMP:20260422T103329Z
SUMMARY:2nd annual Toys for Tots Car Show - Calhoun, GA
DESCRIPTION:\r\ny’all don’t forget to come out this Saturday (12/3
 ) to help me and Dakota Mulkey spread joy to the families in need th
 is holiday season! we will have corn hole, food and drinks, and trophi
 es!!! It will be held at the old Piggly Wiggly in Calhoun Ga from 2-7!
 !\n\nFor more information visit https://www.southeastwheelsevents.com/
 events/2nd-annual-toys-for-tots-car-show-calhoun-ga
DTSTART;TZID=Pacific/Midway:20221203T140000
DTEND;TZID=Pacific/Midway:20221203T190000
CATEGORIES:car, show, benefit, toys, tots
LOCATION:The old Piggly Wiggly
WEBSITE:
URL:
CONTACT:
ORGANIZER:
ATTACH;FMTTYPE="image/jpeg":https://storage.ning.com/topology/rest/1.0
 /file/get/10894878077?profile=original
ATTENDEE;ROLE=REQ-PARTICIPANT;PARTSTAT=ACCEPTED;RSVP=TRUE;CN="Chuck Aa
 ron":https://www.southeastwheelsevents.com/profile/ChuckAaron886
END:VEVENT
END:VCALENDAR
