BEGIN:VCALENDAR
PRODID:NingEventWidget-v1
VERSION:2.0
METHOD:PUBLISH
BEGIN:VTIMEZONE
TZID:Pacific/Midway
X-LIC-LOCATION:Pacific/Midway
BEGIN:STANDARD
TZOFFSETFROM:-1100
TZOFFSETTO:-1100
TZNAME:SST
DTSTART:19700101T000000
END:STANDARD
END:VTIMEZONE
BEGIN:VEVENT
UID:5072275:Event:477607
DTSTAMP:20260424T104915Z
SUMMARY:2nd Annual World Missions Car Show,Clev, Ga
DESCRIPTION:Mark your calendar for the beautiful North Georgia Mount
 ains in Cleveland for our 2nd Annual World Missions Classic Car Show 
 on the front lawn of Truett McConnell College. September 22,2012  fro
 m 10:00-4:00.\nTop 20 and presidents award for best of show. $25 entry
  tax deductable. vendor space is still available.$50.We are expecting 
 200-300 cars and trucks .\nfor more information call Betty Mabe @770-9
 83-1862 0r\n770-519-4000.\n\nFor more information visit https://www.so
 utheastwheelsevents.com/events/2nd-annual-world-missions-car-show-clev
 -ga
DTSTART;TZID=Pacific/Midway:20120922T100000
DTEND;TZID=Pacific/Midway:20120922T160000
CATEGORIES:classic, car, and, truck, show
LOCATION:Truett McConnell College front lawn
WEBSITE:http://bm19491@hotmail.com
URL:http://bm19491@hotmail.com
CONTACT:770-983-1862 or 770-519-4000
ORGANIZER;CN=bm:https://www.southeastwheelsevents.com/profile/bm
ATTACH;FMTTYPE="image/jpeg":
ATTENDEE;ROLE=REQ-PARTICIPANT;PARTSTAT=ACCEPTED;RSVP=TRUE;CN=bm:https:
 //www.southeastwheelsevents.com/profile/bm
END:VEVENT
END:VCALENDAR
