BEGIN:VCALENDAR
PRODID:NingEventWidget-v1
VERSION:2.0
METHOD:PUBLISH
BEGIN:VTIMEZONE
TZID:Pacific/Midway
X-LIC-LOCATION:Pacific/Midway
BEGIN:STANDARD
TZOFFSETFROM:-1100
TZOFFSETTO:-1100
TZNAME:SST
DTSTART:19700101T000000
END:STANDARD
END:VTIMEZONE
BEGIN:VEVENT
UID:5072275:Event:1270751
DTSTAMP:20260424T144515Z
SUMMARY:2nd Saturday Cruise In hosted by PHAROAHS of South Ga.
DESCRIPTION:🔥 Event Description: Get ready to roll into Newnan’s 
 most iconic cruise-in — the original 2nd Saturday tradition that sta
 rted it all! Join us at Sprayberry’s BBQ for an evening of classic c
 ars, hot rods, great food, and even better company.\r\nWhether you’r
 e showing off your ride or just soaking in the chrome and horsepower, 
 this is where stories are shared, engines rumble, and friendships spar
 k.\r\n🍔 Good Food. Great People. Legendary Cars. There’s simply n
 othing better.\n\nFor more information visit https://www.southeastwhee
 lsevents.com/events/2nd-saturday-cruise-in-hosted-by-pharoahs-of-south
 -ga
DTSTART;TZID=Pacific/Midway:20251011T170000
DTEND;TZID=Pacific/Midway:20251011T200000
CATEGORIES:cruise, in
LOCATION:Sprayberrys BBQ
WEBSITE:http://PHAROAHS C.C  of South Ga.on Facebook
URL:http://PHAROAHS C.C  of South Ga.on Facebook
CONTACT:6786338566
ORGANIZER;CN="James Still":https://www.southeastwheelsevents.com/profi
 le/JamesStill
ATTACH;FMTTYPE="image/jpeg":https://storage.ning.com/topology/rest/1.0
 /file/get/13725635864?profile=original
ATTENDEE;ROLE=REQ-PARTICIPANT;PARTSTAT=ACCEPTED;RSVP=TRUE;CN="James St
 ill":https://www.southeastwheelsevents.com/profile/JamesStill
END:VEVENT
END:VCALENDAR
