BEGIN:VCALENDAR
PRODID:NingEventWidget-v1
VERSION:2.0
METHOD:PUBLISH
BEGIN:VTIMEZONE
TZID:Pacific/Midway
X-LIC-LOCATION:Pacific/Midway
BEGIN:STANDARD
TZOFFSETFROM:-1100
TZOFFSETTO:-1100
TZNAME:SST
DTSTART:19700101T000000
END:STANDARD
END:VTIMEZONE
BEGIN:VEVENT
UID:5072275:Event:85932
DTSTAMP:20260421T204753Z
SUMMARY:2nd Soggy Bottom Halloweekend Car, Bike, Golf Cart, Truck Show
  - Unadilla, GA
DESCRIPTION:starts at 12.00 trophys at 4.00 an halloween costume party
  at 8.00 in the swamp bar..this was awsome last year live dj,karokee a
 n drinks till ?...have camp sites an red carpet in across the street..
 ......door prizes...bon fire party fri an sat\n\nFor more information 
 visit https://www.southeastwheelsevents.com/events/2nd-soggy-bottom-ha
 lloweekend
DTSTART;TZID=Pacific/Midway:20101030T120000
DTEND;TZID=Pacific/Midway:20101030T190000
CATEGORIES:party, with, your, ride, an, costume, that, nite
LOCATION:soggy bottom camp ground unadilla ga ex 122 on 75 go west .01
  mile
WEBSITE:
URL:
CONTACT:678-898-0820 or 0822..
ORGANIZER:George McDonald
ATTACH;FMTTYPE="image/jpeg":http://storage.ning.com/topology/rest/1.0/
 file/get/967586769?profile=original
ATTENDEE;ROLE=REQ-PARTICIPANT;PARTSTAT=ACCEPTED;RSVP=TRUE;CN="Howard G
 raham":https://www.southeastwheelsevents.com/profile/HowardGraham
ATTENDEE;ROLE=REQ-PARTICIPANT;PARTSTAT=ACCEPTED;RSVP=TRUE;CN="George m
 cdonald":https://www.southeastwheelsevents.com/profile/Georgemcdonald
END:VEVENT
END:VCALENDAR
