BEGIN:VCALENDAR
PRODID:NingEventWidget-v1
VERSION:2.0
METHOD:PUBLISH
BEGIN:VTIMEZONE
TZID:Pacific/Midway
X-LIC-LOCATION:Pacific/Midway
BEGIN:STANDARD
TZOFFSETFROM:-1100
TZOFFSETTO:-1100
TZNAME:SST
DTSTART:19700101T000000
END:STANDARD
END:VTIMEZONE
BEGIN:VEVENT
UID:5072275:Event:1233122
DTSTAMP:20260420T171553Z
SUMMARY:32nd ANNUAL CRUIZIN THE CLASSICS
DESCRIPTION: \n\nFor more information visit https://www.southeastwhee
 lsevents.com/events/32nd-annual-cruizin-the-classics
DTSTART;TZID=Pacific/Midway:20220409T090000
DTEND;TZID=Pacific/Midway:20220409T150000
CATEGORIES:32nd, annual, car, show
LOCATION:THE SEED CHURCH
WEBSITE:
URL:
CONTACT:
ORGANIZER:DIXIELAND CRUISERS
ATTACH;FMTTYPE="image/jpeg":https://storage.ning.com/topology/rest/1.0
 /file/get/10167742482?profile=original
ATTENDEE;ROLE=REQ-PARTICIPANT;PARTSTAT=TENTATIVE;RSVP=TRUE;CN="Jeffrey
  Rutherford":https://www.southeastwheelsevents.com/profile/JeffreyRuth
 erford866
END:VEVENT
END:VCALENDAR
