BEGIN:VCALENDAR
PRODID:NingEventWidget-v1
VERSION:2.0
METHOD:PUBLISH
BEGIN:VTIMEZONE
TZID:Pacific/Midway
X-LIC-LOCATION:Pacific/Midway
BEGIN:STANDARD
TZOFFSETFROM:-1100
TZOFFSETTO:-1100
TZNAME:SST
DTSTART:19700101T000000
END:STANDARD
END:VTIMEZONE
BEGIN:VEVENT
UID:5072275:Event:1111316
DTSTAMP:20260422T114651Z
SUMMARY:34th Annual Christmas on the Square Car Show - Live Oak, Fl
DESCRIPTION:We are celebrating our 34th Annual Christmas on the Square
  in Historic Downtown Live Oak, Florida located near the beautiful Suw
 annee River. We will welcome over 300 arts & craft vendors and food ve
 ndors from all over the United States.\n\nFor more information visit h
 ttps://www.southeastwheelsevents.com/events/334th-annual-christmas-on-
 the-square-car-show-live-oak-fl
DTSTART;TZID=Pacific/Midway:20181130T080000
DTEND;TZID=Pacific/Midway:20181201T150000
CATEGORIES:car, show, cruise, in
LOCATION:The Square,
WEBSITE:http://suwanneechamber.com
URL:http://suwanneechamber.com
CONTACT:(386) 362-3071
ORGANIZER:
ATTACH;FMTTYPE="image/jpeg":http://storage.ning.com/topology/rest/1.0/
 file/get/967804177?profile=original
ATTENDEE;ROLE=REQ-PARTICIPANT;PARTSTAT=ACCEPTED;RSVP=TRUE;CN="Anthony 
 Hopkins":https://www.southeastwheelsevents.com/profile/AnthonyHopkins
END:VEVENT
END:VCALENDAR
