BEGIN:VCALENDAR
PRODID:NingEventWidget-v1
VERSION:2.0
METHOD:PUBLISH
BEGIN:VTIMEZONE
TZID:Pacific/Midway
X-LIC-LOCATION:Pacific/Midway
BEGIN:STANDARD
TZOFFSETFROM:-1100
TZOFFSETTO:-1100
TZNAME:SST
DTSTART:19700101T000000
END:STANDARD
END:VTIMEZONE
BEGIN:VEVENT
UID:5072275:Event:1272521
DTSTAMP:20260424T020104Z
SUMMARY:33rd Annual Florida Packard Club Meet
DESCRIPTION:Our 33rd Annual Meet will be held on Sunday, Jan. 25, 2026
 , from 9:00 a.m. to 3:00 p.m. Please remember that the Meet will be in
  a New Place! The location is Dave Lanning's home and garages in Engle
 wood. The address is 6186 McKinley Terrace, Englewood, FL 34224. In ad
 dition to being a Packard owner, Dave is a longtime Hudson addict (an 
 affliction known as being a Hudnut). So, for the second year straight,
  the Hudson Club will be joining us. Non Packard and Hudson cars 25 ye
 ars and older welcome. The Meet is free and open to the public.Lunch i
 s available to all, and FREE to Packard drivers.If you have questions 
 about the Meet, you can call Dave Lanning at 941-468-3933 or email him
  at hudnut40@ gmail.com. Or call Jacki Kaiser at 941-290-0805 or email
  her at irishredtoo@gmail.com.\n\nFor more information visit https://w
 ww.southeastwheelsevents.com/events/33rd-annual-florida-packard-club-m
 eet
DTSTART;TZID=Pacific/Midway:20260125T080000
DTEND;TZID=Pacific/Midway:20260125T150000
CATEGORIES:club, meet
LOCATION:Englewood, FL
WEBSITE:http://www.flpackardclub.org/club-events.html
URL:http://www.flpackardclub.org/club-events.html
CONTACT:9414683933
ORGANIZER:Florida Packard Club
ATTACH;FMTTYPE="image/jpeg":https://storage.ning.com/topology/rest/1.0
 /file/get/31007443494?profile=original
ATTENDEE;ROLE=REQ-PARTICIPANT;PARTSTAT=ACCEPTED;RSVP=TRUE;CN="Carter R
 ichards":https://www.southeastwheelsevents.com/profile/CarterRichards
END:VEVENT
END:VCALENDAR
