BEGIN:VCALENDAR
PRODID:NingEventWidget-v1
VERSION:2.0
METHOD:PUBLISH
BEGIN:VTIMEZONE
TZID:Pacific/Midway
X-LIC-LOCATION:Pacific/Midway
BEGIN:STANDARD
TZOFFSETFROM:-1100
TZOFFSETTO:-1100
TZNAME:SST
DTSTART:19700101T000000
END:STANDARD
END:VTIMEZONE
BEGIN:VEVENT
UID:5072275:Event:983757
DTSTAMP:20260425T025429Z
SUMMARY:34th Annual SAAB Owner's Convention
DESCRIPTION:http://www.saabconvention.com\nThe SAAB Club Atlanta is pl
 aying host to all SAAB Owners and fans to the Evergreen Marriott insid
 e Stone Mountain, GA, August 4-7, 2016!! Bring your SAAB, or your inte
 rest in seeing some of the finest examples of the brand, from super-ra
 re 92's/93's/94's of SAAB's \"rally\" era, or the \"Classic\" 900 of t
 he 70's-80's, through the amazing limited-production Viggen, to the f
 inal model year in 2011!!\n\nFor more information visit https://www.so
 utheastwheelsevents.com/events/34th-annual-saab-owner-s-convention
DTSTART;TZID=Pacific/Midway:20160804T120000
DTEND;TZID=Pacific/Midway:20160807T120000
CATEGORIES:car, show
LOCATION:Stone Mountain, GA (Evergreen Marriott)
WEBSITE:http://www.marriott.com/hotels/travel/atleg-atlanta-evergreen-
 marriott-conference-resort/
URL:http://www.marriott.com/hotels/travel/atleg-atlanta-evergreen-marr
 iott-conference-resort/
CONTACT:
ORGANIZER:SAAB Club Atlanta
ATTACH;FMTTYPE="image/jpeg":http://storage.ning.com/topology/rest/1.0/
 file/get/967705953?profile=original
ATTENDEE;ROLE=REQ-PARTICIPANT;PARTSTAT=ACCEPTED;RSVP=TRUE;CN="Mark Wel
 ker":https://www.southeastwheelsevents.com/profile/MarkWelker
END:VEVENT
END:VCALENDAR
