BEGIN:VCALENDAR
PRODID:NingEventWidget-v1
VERSION:2.0
METHOD:PUBLISH
BEGIN:VTIMEZONE
TZID:Pacific/Midway
X-LIC-LOCATION:Pacific/Midway
BEGIN:STANDARD
TZOFFSETFROM:-1100
TZOFFSETTO:-1100
TZNAME:SST
DTSTART:19700101T000000
END:STANDARD
END:VTIMEZONE
BEGIN:VEVENT
UID:5072275:Event:1034490
DTSTAMP:20260421T125344Z
SUMMARY:37th Annual  NHRA SOUTHERN NATIONALS
DESCRIPTION:For individual ticket information, please call 1-800-884-6
 472 or visit www.nhra.com/tickets\nFor all Group Ticket and Tower S
 uite sales, please call (352) 316-1300\n\n \n\n \n\n \n\n \n\n \
 n\n \n\n\nNHRA Southern Nationals\n\n\nMay 5-7, 2017\n\n\nAtlanta Dra
 gway\n\n\n\n\n\nFor more information visit https://www.southeastwheels
 events.com/events/37th-annual-nhra-southern-nationals
DTSTART;TZID=Pacific/Midway:20170505T000000
DTEND;TZID=Pacific/Midway:20170507T235900
CATEGORIES:race
LOCATION:Atlanta Dragway
WEBSITE:http://www.atlantadragway.com/
URL:http://www.atlantadragway.com/
CONTACT:(706) 335-2301
ORGANIZER:
ATTACH;FMTTYPE="image/jpeg":http://storage.ning.com/topology/rest/1.0/
 file/get/967738157?profile=original
ATTENDEE;ROLE=REQ-PARTICIPANT;PARTSTAT=ACCEPTED;RSVP=TRUE;CN="Christop
 her Gosney":https://www.southeastwheelsevents.com/profile/ChristopherG
 osney
END:VEVENT
END:VCALENDAR
