BEGIN:VCALENDAR
PRODID:NingEventWidget-v1
VERSION:2.0
METHOD:PUBLISH
BEGIN:VTIMEZONE
TZID:Pacific/Midway
X-LIC-LOCATION:Pacific/Midway
BEGIN:STANDARD
TZOFFSETFROM:-1100
TZOFFSETTO:-1100
TZNAME:SST
DTSTART:19700101T000000
END:STANDARD
END:VTIMEZONE
BEGIN:VEVENT
UID:5072275:Event:1099659
DTSTAMP:20260423T070226Z
SUMMARY:CRMC 42nd Annual Mustang & All Ford Show - Indian Trail, Nc
DESCRIPTION:Registration:  8am - 11amJudging:  11am - 2pmAwards:  3
 pmLimited to 250 Ford Powered Vehicles50/50 RaffleNo Canopies in Show 
 AreaTo Pre-Register Visit:  https://www.ponytales.org\n\nFor more inf
 ormation visit https://www.southeastwheelsevents.com/events/38th-annua
 l-mustang-and-all-ford-show-indian-trail-nc
DTSTART;TZID=Pacific/Midway:20220924T080000
DTEND;TZID=Pacific/Midway:20220924T150000
CATEGORIES:car, show, cruise, in
LOCATION:Crossroads Ford,
WEBSITE:http://ponytales.org
URL:http://ponytales.org
CONTACT:(704) 999-9991
ORGANIZER:CRMC
ATTACH;FMTTYPE="image/jpeg":https://storage.ning.com/topology/rest/1.0
 /file/get/10821588700?profile=original
ATTENDEE;ROLE=REQ-PARTICIPANT;PARTSTAT=ACCEPTED;RSVP=TRUE;CN="Anthony 
 Hopkins":https://www.southeastwheelsevents.com/profile/AnthonyHopkins
END:VEVENT
END:VCALENDAR
