BEGIN:VCALENDAR
PRODID:NingEventWidget-v1
VERSION:2.0
METHOD:PUBLISH
BEGIN:VTIMEZONE
TZID:Pacific/Midway
X-LIC-LOCATION:Pacific/Midway
BEGIN:STANDARD
TZOFFSETFROM:-1100
TZOFFSETTO:-1100
TZNAME:SST
DTSTART:19700101T000000
END:STANDARD
END:VTIMEZONE
BEGIN:VEVENT
UID:5072275:Event:1099546
DTSTAMP:20260420T062532Z
SUMMARY:39th Annual Music City Mustang and All Ford Show - Mount Julie
 t, Tn
DESCRIPTION:39th Annual Music City Mustang and  All Ford Show at West
  Wilson Middle School, 935 North Mount Juliet Road.\n\nFor more inform
 ation visit https://www.southeastwheelsevents.com/events/39th-annual-m
 usic-city-mustang-and-all-ford-show-mount-juliet-tn
DTSTART;TZID=Pacific/Midway:20180922T090000
DTEND;TZID=Pacific/Midway:20180922T150000
CATEGORIES:car, show, cruise, in
LOCATION:West Wilson Middle School,
WEBSITE:http://musiccitymustangclub.org
URL:http://musiccitymustangclub.org
CONTACT:(713) 305-6274
ORGANIZER:Bob Winland
ATTACH;FMTTYPE="image/jpeg":http://storage.ning.com/topology/rest/1.0/
 file/get/967793166?profile=original
ATTENDEE;ROLE=REQ-PARTICIPANT;PARTSTAT=ACCEPTED;RSVP=TRUE;CN="Anthony 
 Hopkins":https://www.southeastwheelsevents.com/profile/AnthonyHopkins
END:VEVENT
END:VCALENDAR
