BEGIN:VCALENDAR
PRODID:NingEventWidget-v1
VERSION:2.0
METHOD:PUBLISH
BEGIN:VTIMEZONE
TZID:Pacific/Midway
X-LIC-LOCATION:Pacific/Midway
BEGIN:STANDARD
TZOFFSETFROM:-1100
TZOFFSETTO:-1100
TZNAME:SST
DTSTART:19700101T000000
END:STANDARD
END:VTIMEZONE
BEGIN:VEVENT
UID:5072275:Event:1086553
DTSTAMP:20260419T231227Z
SUMMARY:3rd Annual Car Show- WESTMORELAND, TN
DESCRIPTION:3rd Annual Car Show\n\nFor more information visit https://
 www.southeastwheelsevents.com/events/3rd-annual-car-show-westmoreland-
 tn
DTSTART;TZID=Pacific/Midway:20180609T090000
DTEND;TZID=Pacific/Midway:20180609T140000
CATEGORIES:car, show
LOCATION:Garrett's Creek Church
WEBSITE:
URL:
CONTACT:(615) 841-3167,(615) 478-0303 or (615) 644-3914, (615) 388-236
 9 (RD 6116)
ORGANIZER:Gail Gearids or Paula Huntsman
ATTACH;FMTTYPE="image/jpeg":http://storage.ning.com/topology/rest/1.0/
 file/get/967775678?profile=original
ATTENDEE;ROLE=REQ-PARTICIPANT;PARTSTAT=ACCEPTED;RSVP=TRUE;CN="Anthony 
 Hopkins":https://www.southeastwheelsevents.com/profile/AnthonyHopkins
END:VEVENT
END:VCALENDAR
